BEGIN:VCALENDAR
VERSION:2.0
PRODID:-//Intelivino - ECPv5.14.1//NONSGML v1.0//EN
CALSCALE:GREGORIAN
METHOD:PUBLISH
X-WR-CALNAME:Intelivino
X-ORIGINAL-URL:https://intelivino.com.br
X-WR-CALDESC:Eventos para Intelivino
REFRESH-INTERVAL;VALUE=DURATION:PT1H
X-Robots-Tag:noindex
X-PUBLISHED-TTL:PT1H
BEGIN:VTIMEZONE
TZID:America/Sao_Paulo
BEGIN:STANDARD
TZOFFSETFROM:-0300
TZOFFSETTO:-0300
TZNAME:-03
DTSTART:20200101T000000
END:STANDARD
END:VTIMEZONE
BEGIN:VEVENT
DTSTART;TZID=America/Sao_Paulo:20200806T170000
DTEND;TZID=America/Sao_Paulo:20200806T180000
DTSTAMP:20260419T203053
CREATED:20200806T124042Z
LAST-MODIFIED:20200806T124042Z
UID:31491-1596733200-1596736800@intelivino.com.br
SUMMARY:A evolução do vinho no Brasil * Pró-Vinho
DESCRIPTION:@rcastilho @danio_braga 🍷
URL:https://intelivino.com.br/evento/a-evolucao-do-vinho-no-brasil-pro-vinho/
LOCATION:Live – Instagram
CATEGORIES:Webinar/Live
ATTACH;FMTTYPE=image/jpeg:https://intelivino.com.br/wp-content/uploads/2020/08/Live-pro-vinho-06.08.2020.jpeg
ORGANIZER;CN="Pr%C3%B3-Vinho":MAILTO:contato@provinho.org.br
END:VEVENT
BEGIN:VEVENT
DTSTART;TZID=America/Sao_Paulo:20200806T180000
DTEND;TZID=America/Sao_Paulo:20200806T190000
DTSTAMP:20260419T203053
CREATED:20200804T132755Z
LAST-MODIFIED:20200804T132755Z
UID:31483-1596736800-1596740400@intelivino.com.br
SUMMARY:A arte da harmonização chocolate e vinho * Casa Valduga
DESCRIPTION:🍫 🍷
URL:https://intelivino.com.br/evento/a-arte-da-harmonizacao-chocolate-e-vinho-casa-valduga/
LOCATION:Live – Instagram
CATEGORIES:Webinar/Live
ATTACH;FMTTYPE=image/jpeg:https://intelivino.com.br/wp-content/uploads/2020/08/Live-Casa-Valduga-04.08.2020.jpeg
END:VEVENT
BEGIN:VEVENT
DTSTART;TZID=America/Sao_Paulo:20200806T190000
DTEND;TZID=America/Sao_Paulo:20200806T200000
DTSTAMP:20260419T203053
CREATED:20200806T115301Z
LAST-MODIFIED:20200806T115301Z
UID:31486-1596740400-1596744000@intelivino.com.br
SUMMARY:A Zahil e as mudanças no mercado do vinho * ABS-SP
DESCRIPTION:Hoje\, no Instagram da ABS-SP\, teremos uma conversa sobre a importadora Zahil e as mudanças que estão ocorrendo no mercado de vinhos em razão da pandemia. Não perca! \n@zahilvinhos @gcpvinho
URL:https://intelivino.com.br/evento/a-zahil-e-as-mudancas-no-mercado-do-vinho-abs-sp/
LOCATION:Live – Instagram
CATEGORIES:Webinar/Live
ATTACH;FMTTYPE=image/jpeg:https://intelivino.com.br/wp-content/uploads/2020/08/Live-1-ABSSP-06.08.2020.jpeg
ORGANIZER;CN="ABS-SP":MAILTO:contato@abs-sp.com.br
END:VEVENT
BEGIN:VEVENT
DTSTART;TZID=America/Sao_Paulo:20200806T190000
DTEND;TZID=America/Sao_Paulo:20200806T200000
DTSTAMP:20260419T203053
CREATED:20200721T134757Z
LAST-MODIFIED:20200721T134757Z
UID:31444-1596740400-1596744000@intelivino.com.br
SUMMARY:Técnica sistemática de prova de vinhos * Eno Cultura
DESCRIPTION:Acidez Médio + ou Alta? Aromas primários de mirtilo\, violeta\, e terciários de figo seco e couro? \nAprenda tudo sobre a Técnica Sistemática de Prova Avançada da WSET Nível 3 com a gente\, dia 06/08\, às 19h ! Vamos destrinchar todos os atributos importantes do vinho em uma degustação\, da cor ao possível potencial de envelhecimento. \nFaremos uma degustação online exclusiva\, ao vivo e comentada\, baseada nessa técnica. Ao adquirir o kit de vinhos selecionados\, você garante a participação na degustação. \nNa bio deixamos o link para você ter acesso aos vinhos. \nNossos alunos que já estão inscritos no WSET 2 e WSET 3\, podem acompanhar a degustação mesmo sem os vinhos\, é só nos avisar por inbox.
URL:https://intelivino.com.br/evento/tecnica-sistematica-de-prova-de-vinhos-eno-cultura-2/
LOCATION:Live – Instagram
CATEGORIES:Degustação
ATTACH;FMTTYPE=image/jpeg:https://intelivino.com.br/wp-content/uploads/2020/07/Degustacao-Online-Eno-Cultura-21.07.2020.jpeg
ORGANIZER;CN="Eno%20Cultura":MAILTO:contato@enocultura.com.br
END:VEVENT
BEGIN:VEVENT
DTSTART;TZID=America/Sao_Paulo:20200807T190000
DTEND;TZID=America/Sao_Paulo:20200807T200000
DTSTAMP:20260419T203053
CREATED:20200806T120251Z
LAST-MODIFIED:20200806T120251Z
UID:31487-1596826800-1596830400@intelivino.com.br
SUMMARY:Garrafas de vinho * ABS-SP
DESCRIPTION:@juniormedeiros77 🍷
URL:https://intelivino.com.br/evento/garrafas-de-vinho-abs-sp/
LOCATION:Live – Instagram
CATEGORIES:Webinar/Live
ATTACH;FMTTYPE=image/jpeg:https://intelivino.com.br/wp-content/uploads/2020/08/Live-2-ABSSP-06.08.2020.jpeg
ORGANIZER;CN="ABS-SP":MAILTO:contato@abs-sp.com.br
END:VEVENT
BEGIN:VEVENT
DTSTART;TZID=America/Sao_Paulo:20200808T190000
DTEND;TZID=America/Sao_Paulo:20200808T200000
DTSTAMP:20260419T203053
CREATED:20200806T121129Z
LAST-MODIFIED:20200806T121129Z
UID:31488-1596913200-1596916800@intelivino.com.br
SUMMARY:Viagem ao Chile * ABS-SP
DESCRIPTION:@alternatur @gloriamda 🍷
URL:https://intelivino.com.br/evento/viagem-ao-chile-abs-sp/
LOCATION:Live – Instagram
CATEGORIES:Webinar/Live
ATTACH;FMTTYPE=image/jpeg:https://intelivino.com.br/wp-content/uploads/2020/08/Live-3-ABSSP-06.08.2020.jpeg
ORGANIZER;CN="ABS-SP":MAILTO:contato@abs-sp.com.br
END:VEVENT
BEGIN:VEVENT
DTSTART;TZID=America/Sao_Paulo:20200809T193000
DTEND;TZID=America/Sao_Paulo:20200809T203000
DTSTAMP:20260419T203053
CREATED:20200806T121908Z
LAST-MODIFIED:20200806T121908Z
UID:31489-1597001400-1597005000@intelivino.com.br
SUMMARY:ABS-Bahia * ABS-SP
DESCRIPTION:@abs_bahia  @rei60 🍷
URL:https://intelivino.com.br/evento/abs-bahia-abs-sp/
LOCATION:Live – Instagram
CATEGORIES:Webinar/Live
ATTACH;FMTTYPE=image/jpeg:https://intelivino.com.br/wp-content/uploads/2020/08/Live-4-ABSSP-06.08.2020.jpeg
ORGANIZER;CN="ABS-SP":MAILTO:contato@abs-sp.com.br
END:VEVENT
BEGIN:VEVENT
DTSTART;TZID=America/Sao_Paulo:20200810T160000
DTEND;TZID=America/Sao_Paulo:20200810T170000
DTSTAMP:20260419T203053
CREATED:20200810T140624Z
LAST-MODIFIED:20200810T140624Z
UID:31502-1597075200-1597078800@intelivino.com.br
SUMMARY:Marketing\, gestão do negócio e comportamento * The Wine School Brasil
DESCRIPTION:Você não vai querer perder o bate-papo sobre o setor dos vinhos no Brasil e sua relação com o marketing\, a gestão de negócios e o comportamento do consumidor durante e no pós-pandemia\, com Otavio Moraes e Christian Burgos.\nContinue conectado às novidades da The Wine School Brasil!
URL:https://intelivino.com.br/evento/marketing-gestao-do-negocio-e-comportamento-the-wine-school-brasil/
LOCATION:Live – Instagram
CATEGORIES:Webinar/Live
ATTACH;FMTTYPE=image/jpeg:https://intelivino.com.br/wp-content/uploads/2020/08/Live-The-Wine-School-BR-10.08.2020.jpeg
END:VEVENT
BEGIN:VEVENT
DTSTART;TZID=America/Sao_Paulo:20200810T180000
DTEND;TZID=America/Sao_Paulo:20200810T190000
DTSTAMP:20260419T203053
CREATED:20200810T141524Z
LAST-MODIFIED:20200810T141524Z
UID:31503-1597082400-1597086000@intelivino.com.br
SUMMARY:Vinho e comida\, as melhores combinações * Pró-Vinho
DESCRIPTION:A jornalista Solange Souza vai conversar com o sommelier Adiu Bastos. Esperamos você! 🍷
URL:https://intelivino.com.br/evento/vinho-e-comida-as-melhores-combinacoes-pro-vinho/
LOCATION:Live – Instagram
CATEGORIES:Webinar/Live
ATTACH;FMTTYPE=image/jpeg:https://intelivino.com.br/wp-content/uploads/2020/08/Live-pro-vinho-10.08.2020.jpeg
ORGANIZER;CN="Pr%C3%B3-Vinho":MAILTO:contato@provinho.org.br
END:VEVENT
BEGIN:VEVENT
DTSTART;TZID=America/Sao_Paulo:20200810T190000
DTEND;TZID=America/Sao_Paulo:20200810T200000
DTSTAMP:20260419T203053
CREATED:20200806T122926Z
LAST-MODIFIED:20200806T122926Z
UID:31490-1597086000-1597089600@intelivino.com.br
SUMMARY:Vinícola Italiana Allegrini * ABS-SP
DESCRIPTION:@grandcruvinhos 🍷
URL:https://intelivino.com.br/evento/vinicola-italiana-allegrini-abs-sp/
LOCATION:Live – Instagram
CATEGORIES:Webinar/Live
ATTACH;FMTTYPE=image/jpeg:https://intelivino.com.br/wp-content/uploads/2020/08/Live-5-ABSSP-06.08.2020.jpeg
ORGANIZER;CN="ABS-SP":MAILTO:contato@abs-sp.com.br
END:VEVENT
BEGIN:VEVENT
DTSTART;TZID=America/Sao_Paulo:20200811T200000
DTEND;TZID=America/Sao_Paulo:20200811T210000
DTSTAMP:20260419T203053
CREATED:20200810T114821Z
LAST-MODIFIED:20200810T114821Z
UID:31493-1597176000-1597179600@intelivino.com.br
SUMMARY:A Riqueza das Diferenças * ABS-Rio
DESCRIPTION:Na próxima terça-feira nosso presidente Joseph Morgan recebe para uma live Tita Moraes\, sommelière da importadora Casa Flora. Especialista em mercado de vinhos e jornalismo gastronômico\, Tita vai conduzir os participantes em uma reflexão sobre capacidade sensorial. Através de uma forma particular\, Tita – que apresenta a bebida como ferramenta de autoconhecimento – vai destacar de que maneira o antagonismo e a diversidade ajudam na compreensão dos variados estilos de vinho. Para participar\, basta entrar aqui no Instagram da ABS-Rio às 20h e clicar sobre o logo\, que estará sinalizado com a legenda AO VIVO. 🍷 \n 
URL:https://intelivino.com.br/evento/a-riqueza-das-diferencas-abs-rio/
LOCATION:Live – Instagram
CATEGORIES:Webinar/Live
ATTACH;FMTTYPE=image/jpeg:https://intelivino.com.br/wp-content/uploads/2020/08/Live-1-ABSRIO-10.08.2020.jpeg
ORGANIZER;CN="ABS-Rio":MAILTO:abs@abs-rio.com.br
END:VEVENT
BEGIN:VEVENT
DTSTART;TZID=America/Sao_Paulo:20200811T200000
DTEND;TZID=America/Sao_Paulo:20200811T210000
DTSTAMP:20260419T203053
CREATED:20200727T122254Z
LAST-MODIFIED:20200727T122254Z
UID:31458-1597176000-1597179600@intelivino.com.br
SUMMARY:Vinhos Gregos * ABS-Rio
DESCRIPTION:Com Dionísio Chaves e mediação de Joseph Morgan 🍷
URL:https://intelivino.com.br/evento/vinhos-gregos-abs-rio/
LOCATION:Live – Instagram
CATEGORIES:Webinar/Live
ATTACH;FMTTYPE=image/jpeg:https://intelivino.com.br/wp-content/uploads/2020/07/Live-2-ABSRIO-27.07.2020.jpeg
ORGANIZER;CN="ABS-Rio":MAILTO:abs@abs-rio.com.br
END:VEVENT
BEGIN:VEVENT
DTSTART;TZID=America/Sao_Paulo:20200812T190000
DTEND;TZID=America/Sao_Paulo:20200812T200000
DTSTAMP:20260419T203053
CREATED:20200812T121612Z
LAST-MODIFIED:20200812T121612Z
UID:31505-1597258800-1597262400@intelivino.com.br
SUMMARY:Quinta da Pellada * Mistral
DESCRIPTION:No bate-papo de amanhã às 19h\, temos o prazer de realizar o encontro de duas queridas mulheres do mundo vinho: nossa Sommelière @lalacw\, que vocês já estão acostumados a ver por aqui\, e Maria Castro\, figura super talentosa à frente da Quinta da Pellada.⠀\nAtualmente reconhecido como maior nome do Dão e um dos melhores produtores de Portugal\, a quinta vem recebendo uma avalanche de merecidos prêmios – e que nós concordamos e celebramos cada um deles.⠀\n⠀\nQuem aí tá curioso para descobrir um pouco mais sobre os rótulos e curiosidades desta tradicional família viticultura? Põe um aviso aí na sua agenda que essa live vai ser imperdível!⠀
URL:https://intelivino.com.br/evento/quinta-da-pellada-mistral/
LOCATION:Live – Instagram
CATEGORIES:Webinar/Live
ATTACH;FMTTYPE=image/jpeg:https://intelivino.com.br/wp-content/uploads/2020/08/Live-Mistral-12.08.2020.jpeg
END:VEVENT
BEGIN:VEVENT
DTSTART;TZID=America/Sao_Paulo:20200812T190000
DTEND;TZID=America/Sao_Paulo:20200812T200000
DTSTAMP:20260419T203053
CREATED:20200810T131534Z
LAST-MODIFIED:20200810T131534Z
UID:31499-1597258800-1597262400@intelivino.com.br
SUMMARY:Viña Almaviva * ABS-SP
DESCRIPTION:Tema: Viña Almaviva – A evolução de um ícone do Chile. 🍷 \n@almavivawinery  @artwine
URL:https://intelivino.com.br/evento/vina-almaviva-abs-sp/
LOCATION:Live – Instagram
CATEGORIES:Webinar/Live
ATTACH;FMTTYPE=image/jpeg:https://intelivino.com.br/wp-content/uploads/2020/08/Live-1-ABSSP-10.08.2020.jpeg
ORGANIZER;CN="ABS-SP":MAILTO:contato@abs-sp.com.br
END:VEVENT
BEGIN:VEVENT
DTSTART;TZID=America/Sao_Paulo:20200813T170000
DTEND;TZID=America/Sao_Paulo:20200813T180000
DTSTAMP:20260419T203053
CREATED:20200813T132637Z
LAST-MODIFIED:20200813T132637Z
UID:31513-1597338000-1597341600@intelivino.com.br
SUMMARY:Uma brasileira na OIV * Pró-Vinho
DESCRIPTION:O colunista de vinhos @didu_russo vai falar com a presidente da OIV\, @reginavanderlinde. Não perca!
URL:https://intelivino.com.br/evento/uma-brasileira-na-oiv-pro_vinho/
LOCATION:Live – Instagram
CATEGORIES:Webinar/Live
ATTACH;FMTTYPE=image/jpeg:https://intelivino.com.br/wp-content/uploads/2020/08/Live-pro-vinho-13.08.2020.jpeg
ORGANIZER;CN="Pr%C3%B3-Vinho":MAILTO:contato@provinho.org.br
END:VEVENT
BEGIN:VEVENT
DTSTART;TZID=America/Sao_Paulo:20200813T190000
DTEND;TZID=America/Sao_Paulo:20200813T200000
DTSTAMP:20260419T203053
CREATED:20200810T133423Z
LAST-MODIFIED:20200810T133423Z
UID:31500-1597345200-1597348800@intelivino.com.br
SUMMARY:TodoVino * ABS-SP
DESCRIPTION:Tema: Conheça a história e as novidades da importadora TodoVino. \n@todovinobr  🍷
URL:https://intelivino.com.br/evento/todovino-abs-sp/
LOCATION:Live – Instagram
CATEGORIES:Webinar/Live
ATTACH;FMTTYPE=image/jpeg:https://intelivino.com.br/wp-content/uploads/2020/08/Live-2-ABSSP-10.08.2020.jpeg
ORGANIZER;CN="ABS-SP":MAILTO:contato@abs-sp.com.br
END:VEVENT
BEGIN:VEVENT
DTSTART;TZID=America/Sao_Paulo:20200814T190000
DTEND;TZID=America/Sao_Paulo:20200814T200000
DTSTAMP:20260419T203053
CREATED:20200810T135200Z
LAST-MODIFIED:20200810T135200Z
UID:31501-1597431600-1597435200@intelivino.com.br
SUMMARY:A Guatambu * ABS-SP
DESCRIPTION:Tema: A Guatambu e os vinhos da nova IP Campanha Gaúcha \n@vinicolaguatambu  🍷
URL:https://intelivino.com.br/evento/a-guatambu-abs-sp/
LOCATION:Live – Instagram
CATEGORIES:Webinar/Live
ATTACH;FMTTYPE=image/jpeg:https://intelivino.com.br/wp-content/uploads/2020/08/Live-3-ABSSP-10.08.2020.jpeg
ORGANIZER;CN="ABS-SP":MAILTO:contato@abs-sp.com.br
END:VEVENT
BEGIN:VEVENT
DTSTART;TZID=America/Sao_Paulo:20200814T200000
DTEND;TZID=America/Sao_Paulo:20200814T210000
DTSTAMP:20260419T203053
CREATED:20200813T133905Z
LAST-MODIFIED:20200813T133905Z
UID:31514-1597435200-1597438800@intelivino.com.br
SUMMARY:Degustação ao vivo * Cave Nacional
DESCRIPTION:Degustação virtual da semana!🍷📱 Nesta sexta\, dia 14/08\, às 20 horas\, faremos uma live no nosso instagram @cavenacional.\n⠀\nDegustação ao vivo com Karina e Marcelo (proprietários)\, com participação especial de Ronaldo\, proprietário\nda Vinícola Peculiare!\n⠀\nNesta semana teremos duas opções de kits e abriremos o mais vendido na nossa Live! 😉\n⠀\nEscolha um dos kits e participe conosco!\n⠀\nhttps://cavenacional.com.br/1110-kit-161-lancamentos-perico-e-nossa-live-dia-24-07.html
URL:https://intelivino.com.br/evento/degustacao-ao-vivo-cave-nacional-6/
LOCATION:Live – Instagram
CATEGORIES:Webinar/Live
ATTACH;FMTTYPE=image/jpeg:https://intelivino.com.br/wp-content/uploads/2020/08/Live-Cave-Nacional-13.08.2020.jpeg
END:VEVENT
BEGIN:VEVENT
DTSTART;TZID=America/Sao_Paulo:20200814T203000
DTEND;TZID=America/Sao_Paulo:20200814T213000
DTSTAMP:20260419T203053
CREATED:20200813T131859Z
LAST-MODIFIED:20200813T131859Z
UID:31512-1597437000-1597440600@intelivino.com.br
SUMMARY:Vinho e alergia alimentar * The Wine School Brasil
DESCRIPTION:Sulfitos e insumos enológicos podem causar reações adversas ou alergias? 🍷
URL:https://intelivino.com.br/evento/vinho-e-alergia-alimentar-the-wine-school-brasil/
LOCATION:Live – Instagram
CATEGORIES:Webinar/Live
ATTACH;FMTTYPE=image/jpeg:https://intelivino.com.br/wp-content/uploads/2020/08/Live-The-Wine-School-BR-13.08.2020.jpeg
END:VEVENT
BEGIN:VEVENT
DTSTART;TZID=America/Sao_Paulo:20200815T190000
DTEND;TZID=America/Sao_Paulo:20200815T200000
DTSTAMP:20260419T203053
CREATED:20200813T121444Z
LAST-MODIFIED:20200813T121444Z
UID:31510-1597518000-1597521600@intelivino.com.br
SUMMARY:Desafio aos mestres * ABS-SP
DESCRIPTION:Faça seu desafio aos mestres.\nTem dúvida sobre vinhos? Faca sua pergunta aqui nos comentários ou inbox que será respondida no dia da live- sábado às 19 horas. As perguntas devem ser feitas até sexta-feira (14/08). \n@gustavo_andrade_de_paulo @rei60
URL:https://intelivino.com.br/evento/desafio-aos-mestres-abs-sp/
LOCATION:Live – Instagram
CATEGORIES:Webinar/Live
ATTACH;FMTTYPE=image/jpeg:https://intelivino.com.br/wp-content/uploads/2020/08/Live-2-ABSSP-13.08.2020.jpeg
ORGANIZER;CN="ABS-SP":MAILTO:contato@abs-sp.com.br
END:VEVENT
BEGIN:VEVENT
DTSTART;TZID=America/Sao_Paulo:20200816T190000
DTEND;TZID=America/Sao_Paulo:20200816T200000
DTSTAMP:20260419T203053
CREATED:20200813T120737Z
LAST-MODIFIED:20200813T120737Z
UID:31509-1597604400-1597608000@intelivino.com.br
SUMMARY:Abridores especiais * ABS-SP
DESCRIPTION:@gabrielraele @winecoofficial  🍷
URL:https://intelivino.com.br/evento/abridores-especiais-abs-sp/
LOCATION:Live – Instagram
CATEGORIES:Webinar/Live
ATTACH;FMTTYPE=image/jpeg:https://intelivino.com.br/wp-content/uploads/2020/08/Live-1-ABSSP-13.08.2020.jpeg
ORGANIZER;CN="ABS-SP":MAILTO:contato@abs-sp.com.br
END:VEVENT
BEGIN:VEVENT
DTSTART;TZID=America/Sao_Paulo:20200817T180000
DTEND;TZID=America/Sao_Paulo:20200817T190000
DTSTAMP:20260419T203053
CREATED:20200817T121132Z
LAST-MODIFIED:20200817T121132Z
UID:31515-1597687200-1597690800@intelivino.com.br
SUMMARY:As novas caras do Dão * Pró-Vinho
DESCRIPTION:Nesta segunda-feira\, Ricardo Castilho conversa com Juliana Kelman\, brasileira que produz vinhos no Dão\, em Portugal. Não perca! \n@rcastilho @julianakelman @vinhoskelman
URL:https://intelivino.com.br/evento/as-novas-caras-do-dao-pro-vinho/
LOCATION:Live – Instagram
CATEGORIES:Webinar/Live
ATTACH;FMTTYPE=image/jpeg:https://intelivino.com.br/wp-content/uploads/2020/08/Live-pro-vinho-17.08.2020.jpeg
ORGANIZER;CN="Pr%C3%B3-Vinho":MAILTO:contato@provinho.org.br
END:VEVENT
BEGIN:VEVENT
DTSTART;TZID=America/Sao_Paulo:20200818T190000
DTEND;TZID=America/Sao_Paulo:20200818T200000
DTSTAMP:20260419T203053
CREATED:20200818T123309Z
LAST-MODIFIED:20200818T123309Z
UID:31521-1597777200-1597780800@intelivino.com.br
SUMMARY:Masterclass: Pinot Noir * Portus Cale
DESCRIPTION:@kvilela  @ferrazzowines  🍷
URL:https://intelivino.com.br/evento/masterclass-pinot-noir-portus-cale/
LOCATION:Live – Instagram
CATEGORIES:Webinar/Live
ATTACH;FMTTYPE=image/jpeg:https://intelivino.com.br/wp-content/uploads/2020/08/Live-Portus-Cale-18.08.2020.jpeg
END:VEVENT
BEGIN:VEVENT
DTSTART;TZID=America/Sao_Paulo:20200818T190000
DTEND;TZID=America/Sao_Paulo:20200818T200000
DTSTAMP:20260419T203053
CREATED:20200818T120050Z
LAST-MODIFIED:20200818T120050Z
UID:31518-1597777200-1597780800@intelivino.com.br
SUMMARY:Vinhos e queijos fortes * ABS-SP
DESCRIPTION:Nessa terça-feira no Instagram da @abs_sp vamos falar de vinhos e queijos fortes. Mário Telles e Eduardo Sartori irão dar dicas preciosas sobre essa harmonização que muitos amam. Não percam\, marquem os amigos. \n@mariotellesjunior @sartoridu
URL:https://intelivino.com.br/evento/vinhos-e-queijos-fortes-abs-sp/
LOCATION:Live – Instagram
CATEGORIES:Webinar/Live
ATTACH;FMTTYPE=image/jpeg:https://intelivino.com.br/wp-content/uploads/2020/08/Live-1-ABSSP-18.08.2020.jpeg
ORGANIZER;CN="ABS-SP":MAILTO:contato@abs-sp.com.br
END:VEVENT
BEGIN:VEVENT
DTSTART;TZID=America/Sao_Paulo:20200818T200000
DTEND;TZID=America/Sao_Paulo:20200818T210000
DTSTAMP:20260419T203053
CREATED:20200727T123527Z
LAST-MODIFIED:20200727T123527Z
UID:31459-1597780800-1597784400@intelivino.com.br
SUMMARY:Concursos de Sommeliers * ABS-Rio
DESCRIPTION:Com Wallace Neves 🍷
URL:https://intelivino.com.br/evento/concursos-de-sommeliers-abs-rio/
LOCATION:Live – Instagram
CATEGORIES:Webinar/Live
ATTACH;FMTTYPE=image/jpeg:https://intelivino.com.br/wp-content/uploads/2020/07/Live-3-ABSRIO-27.07.2020.jpeg
ORGANIZER;CN="ABS-Rio":MAILTO:abs@abs-rio.com.br
END:VEVENT
BEGIN:VEVENT
DTSTART;TZID=America/Sao_Paulo:20200819T200000
DTEND;TZID=America/Sao_Paulo:20200819T210000
DTSTAMP:20260419T203053
CREATED:20200819T123759Z
LAST-MODIFIED:20200819T123759Z
UID:31524-1597867200-1597870800@intelivino.com.br
SUMMARY:Enoturismo * Decanter
DESCRIPTION:✈️🍷 Enoturismo é uma atividade turística motivada pela apreciação de vinhos da região que você visita. Hoje o nosso convidado Aguinaldo Zákia Albert vai te dar inúmeras dicas de lugares que você precisa conhecer quando a quarentena acabar! \n⏰ Esperamos você HOJE às 20h! \n@sidney_lucas_sommelier  @aguinaldozackia
URL:https://intelivino.com.br/evento/enoturismo-decanter/
LOCATION:Live – Instagram
CATEGORIES:Webinar/Live
ATTACH;FMTTYPE=image/jpeg:https://intelivino.com.br/wp-content/uploads/2020/08/Live-Decanter-19.08.2020.jpeg
END:VEVENT
BEGIN:VEVENT
DTSTART;TZID=America/Sao_Paulo:20200820T180000
DTEND;TZID=America/Sao_Paulo:20200820T190000
DTSTAMP:20260419T203053
CREATED:20200820T131416Z
LAST-MODIFIED:20200820T131416Z
UID:31528-1597946400-1597950000@intelivino.com.br
SUMMARY:O vinho do nordeste * Pró-Vinho
DESCRIPTION:Hoje vamos mostrar um pouco o que está sendo feito no Nordeste\, com o sommelier e consultor Patrick Neufville. Esperamos você!
URL:https://intelivino.com.br/evento/o-vinho-do-nordeste-pro-vinho/
LOCATION:Live – Instagram
CATEGORIES:Webinar/Live
ATTACH;FMTTYPE=image/jpeg:https://intelivino.com.br/wp-content/uploads/2020/08/Live-pro-vinho-20.08.2020.jpeg
ORGANIZER;CN="Pr%C3%B3-Vinho":MAILTO:contato@provinho.org.br
END:VEVENT
BEGIN:VEVENT
DTSTART;TZID=America/Sao_Paulo:20200820T190000
DTEND;TZID=America/Sao_Paulo:20200820T200000
DTSTAMP:20260419T203053
CREATED:20200820T132831Z
LAST-MODIFIED:20200820T132831Z
UID:31529-1597950000-1597953600@intelivino.com.br
SUMMARY:Casa Valduga * Casa Valduga
DESCRIPTION:🍷
URL:https://intelivino.com.br/evento/casa-valduga-casa-valduga/
LOCATION:Live – Instagram
CATEGORIES:Webinar/Live
ATTACH;FMTTYPE=image/jpeg:https://intelivino.com.br/wp-content/uploads/2020/08/Live-Casa-Valduga-20.08.2020.jpeg
END:VEVENT
BEGIN:VEVENT
DTSTART;TZID=America/Sao_Paulo:20200820T190000
DTEND;TZID=America/Sao_Paulo:20200820T200000
DTSTAMP:20260419T203053
CREATED:20200818T120813Z
LAST-MODIFIED:20200818T120813Z
UID:31519-1597950000-1597953600@intelivino.com.br
SUMMARY:Família Zuccardi * ABS-SP
DESCRIPTION:@zuccardivalledeuco @rei60 🍷
URL:https://intelivino.com.br/evento/familia-zuccardi-abs-sp/
LOCATION:Live – Instagram
CATEGORIES:Webinar/Live
ATTACH;FMTTYPE=image/jpeg:https://intelivino.com.br/wp-content/uploads/2020/08/Live-2-ABSSP-18.08.2020.jpeg
ORGANIZER;CN="ABS-SP":MAILTO:contato@abs-sp.com.br
END:VEVENT
BEGIN:VEVENT
DTSTART;TZID=America/Sao_Paulo:20200820T190000
DTEND;TZID=America/Sao_Paulo:20200820T200000
DTSTAMP:20260419T203053
CREATED:20200817T122412Z
LAST-MODIFIED:20200817T122412Z
UID:31516-1597950000-1597953600@intelivino.com.br
SUMMARY:Vinhos chilenos da Ventisquero * Arte Bistro
DESCRIPTION:Anotem na agenda a Live entre Felipe Cesca e Volnei Signor falando sobre os vinhos chilenos da Ventisquero\, não percam\, será imperdível! 🍷 \n@vventisquero
URL:https://intelivino.com.br/evento/vinhos-chilenos-da-ventisquero-arte-bistro/
LOCATION:Live – Instagram
CATEGORIES:Webinar/Live
ATTACH;FMTTYPE=image/jpeg:https://intelivino.com.br/wp-content/uploads/2020/08/Live-Arte-Bistro-17.08.2020.jpeg
END:VEVENT
END:VCALENDAR