BEGIN:VCALENDAR
VERSION:2.0
PRODID:-//Intelivino - ECPv5.14.1//NONSGML v1.0//EN
CALSCALE:GREGORIAN
METHOD:PUBLISH
X-WR-CALNAME:Intelivino
X-ORIGINAL-URL:https://intelivino.com.br
X-WR-CALDESC:Eventos para Intelivino
REFRESH-INTERVAL;VALUE=DURATION:PT1H
X-Robots-Tag:noindex
X-PUBLISHED-TTL:PT1H
BEGIN:VTIMEZONE
TZID:America/Sao_Paulo
BEGIN:STANDARD
TZOFFSETFROM:-0300
TZOFFSETTO:-0300
TZNAME:-03
DTSTART:20200101T000000
END:STANDARD
END:VTIMEZONE
BEGIN:VEVENT
DTSTART;TZID=America/Sao_Paulo:20200909T193000
DTEND;TZID=America/Sao_Paulo:20200909T203000
DTSTAMP:20260419T124749
CREATED:20200908T142652Z
LAST-MODIFIED:20200908T142652Z
UID:31566-1599679800-1599683400@intelivino.com.br
SUMMARY:Vinhos degustados na Pandemia * ABS-SP
DESCRIPTION:Nesta quarta-feira às 19horas no Instagram da @abs_sp teremos uma live incrível\, qual seu vinho da pandemia?\nNão perca! Marquem os amigos. \n@gustavo_andrade_de_paulo @artwine @mariotellesjunior @rei60
URL:https://intelivino.com.br/evento/vinhos-degustados-na-pandemia-abs-sp/
LOCATION:Live – Instagram
CATEGORIES:Webinar/Live
ATTACH;FMTTYPE=image/jpeg:https://intelivino.com.br/wp-content/uploads/2020/09/Live-ABSSP-08.09.2020.jpeg
ORGANIZER;CN="ABS-SP":MAILTO:contato@abs-sp.com.br
END:VEVENT
BEGIN:VEVENT
DTSTART;TZID=America/Sao_Paulo:20200909T210000
DTEND;TZID=America/Sao_Paulo:20200909T220000
DTSTAMP:20260419T124749
CREATED:20200909T125839Z
LAST-MODIFIED:20200909T125839Z
UID:31567-1599685200-1599688800@intelivino.com.br
SUMMARY:Casa Verrone * ABS-Campinas
DESCRIPTION:Uma das grandes novidades\, no dinâmico cenário vinícola brasileiro\, são os vinhos produzidos na região da serra da Mantiqueira com a técnica da dupla poda. Nessa Live receberemos o proprietário da Casa Verrone\, umas das vinícolas expoentes da região\, Márcio Verrone. \n@casaverrone 
URL:https://intelivino.com.br/evento/casa-verrone-abs-campinas/
LOCATION:Live – Instagram
CATEGORIES:Webinar/Live
ATTACH;FMTTYPE=image/jpeg:https://intelivino.com.br/wp-content/uploads/2020/09/Live-ABS-Campinas-09.09.2020.jpeg
ORGANIZER;CN="ABS-Campinas":MAILTO:contato@abs-sp.campinas.br
END:VEVENT
BEGIN:VEVENT
DTSTART;TZID=America/Sao_Paulo:20200910T170000
DTEND;TZID=America/Sao_Paulo:20200910T180000
DTSTAMP:20260419T124749
CREATED:20200910T131037Z
LAST-MODIFIED:20200910T131037Z
UID:31574-1599757200-1599760800@intelivino.com.br
SUMMARY:As novas fronteiras do vinho no mundo * Pró-Vinho
DESCRIPTION:Hoje\, mais uma live imperdível na Pró-Vinho! Às 17h\, esperamos você!
URL:https://intelivino.com.br/evento/as-novas-fronteiras-do-vinho-no-mundo-pro-vinho/
LOCATION:Live – Instagram
CATEGORIES:Webinar/Live
ATTACH;FMTTYPE=image/jpeg:https://intelivino.com.br/wp-content/uploads/2020/09/Live-pro-vinho-10.09.2020.jpeg
ORGANIZER;CN="Pr%C3%B3-Vinho":MAILTO:contato@provinho.org.br
END:VEVENT
BEGIN:VEVENT
DTSTART;TZID=America/Sao_Paulo:20200910T170000
DTEND;TZID=America/Sao_Paulo:20200910T180000
DTSTAMP:20260419T124749
CREATED:20200909T131848Z
LAST-MODIFIED:20200909T131848Z
UID:31568-1599757200-1599760800@intelivino.com.br
SUMMARY:As novas fronteiras para o vinho no mundo * Pró-Vinho
DESCRIPTION:Na próxima quinta-feira\, às 17h\, o Master of Wine brasileiro Dirceu Vianna Júnior será o entrevistado do ciclo de lives da Pró-Vinho. \nDe Londres\, onde mora\, ele vai passar informações atualizadas sobre o que acontece no mundo do vinho. Vianna Júnior acompanha tendências\, prova vinhos de lugares impensáveis há até poucos anos\, como Japão ou Tailândia\, e participa dos painéis de degustação da revista Decanter. \nA jornalista @suzanabarelli vai conduzir a conversa\, que terá como tema central as novas fronteiras para o vinho no mundo\, abordando regiões menos conhecidas\, os desafios da viticultura e novas formas de comercialização da bebida. Não perca!
URL:https://intelivino.com.br/evento/as-novas-fronteiras-para-o-vinho-no-mundo-pro-vinho/
LOCATION:Live – Instagram
CATEGORIES:Webinar/Live
ATTACH;FMTTYPE=image/jpeg:https://intelivino.com.br/wp-content/uploads/2020/09/Live-Pro-Vinho-09.09.2020.jpeg
ORGANIZER;CN="Pr%C3%B3-Vinho":MAILTO:contato@provinho.org.br
END:VEVENT
BEGIN:VEVENT
DTSTART;TZID=America/Sao_Paulo:20200910T180000
DTEND;TZID=America/Sao_Paulo:20200910T190000
DTSTAMP:20260419T124749
CREATED:20200909T132905Z
LAST-MODIFIED:20200909T132905Z
UID:31569-1599760800-1599764400@intelivino.com.br
SUMMARY:Seña * Marcelo Copello
DESCRIPTION:Amigos\, fico muito orgulhoso em convidá-los para este LIVE super especial\, na qual entrevistarei EDUARDO CHADWICK! \nNa conversa falaremos do SEÑA\, um dos maiores vinhos do Chile e de todo o mundo. Status este conquistado através das famosas Catas de Berlim\, uma das quais tive a honra de apresentar. \nDurante o evento vamos degustar as safras 2016 e 2017 do Seña e fazer um pré-lançamento da safra 2018\, 100 pontos \nIdioma: Espanhol. \nAnote na agenda e marque os amigos que gostam de vinho!
URL:https://intelivino.com.br/evento/sena-marcelo-copello/
LOCATION:Live – Instagram
CATEGORIES:Webinar/Live
ATTACH;FMTTYPE=image/jpeg:https://intelivino.com.br/wp-content/uploads/2020/09/Live-Marcelo-Copello-09.09.2020.jpeg
END:VEVENT
BEGIN:VEVENT
DTSTART;TZID=America/Sao_Paulo:20200910T190000
DTEND;TZID=America/Sao_Paulo:20200910T200000
DTSTAMP:20260419T124749
CREATED:20200910T132212Z
LAST-MODIFIED:20200910T132212Z
UID:31575-1599764400-1599768000@intelivino.com.br
SUMMARY:Harmonizando vinho e chocolate * Evino
DESCRIPTION:🍫 🍷
URL:https://intelivino.com.br/evento/harmonizando-vinho-e-chocolate-evino/
LOCATION:Live – Instagram
CATEGORIES:Webinar/Live
ATTACH;FMTTYPE=image/jpeg:https://intelivino.com.br/wp-content/uploads/2020/09/Live-Evino-10.09.2020.jpeg
END:VEVENT
BEGIN:VEVENT
DTSTART;TZID=America/Sao_Paulo:20200910T200000
DTEND;TZID=America/Sao_Paulo:20200910T210000
DTSTAMP:20260419T124749
CREATED:20200910T125709Z
LAST-MODIFIED:20200910T125709Z
UID:31573-1599768000-1599771600@intelivino.com.br
SUMMARY:Live entre enotecas * Decanter
DESCRIPTION:O nosso bate-papo de hoje é com a sommeliére e Jornalista\, Márcia Ahnoleti da Enoteca Decanter Lagos. Além de muita informação\, ela também vai falar sobre os melhores vinhos do Porto\, em comemoração a essa data especial. \n⏰ Fiquem ligados em nosso IG às 20h \nEsperamos você! 😉
URL:https://intelivino.com.br/evento/live-entre-enotecas-decanter-2/
LOCATION:Live – Instagram
CATEGORIES:Webinar/Live
ATTACH;FMTTYPE=image/jpeg:https://intelivino.com.br/wp-content/uploads/2020/09/Live-Decanter-10.09.2020.jpeg
END:VEVENT
BEGIN:VEVENT
DTSTART;TZID=America/Sao_Paulo:20200910T203000
DTEND;TZID=America/Sao_Paulo:20200910T213000
DTSTAMP:20260419T124749
CREATED:20200910T124217Z
LAST-MODIFIED:20200910T124217Z
UID:31572-1599769800-1599773400@intelivino.com.br
SUMMARY:Indicações de origem e proteção do vinho * The Wine School Brasil
DESCRIPTION:Hoje\, Keli Bergamo recebe André Maia para um papo repleto de descobertas e aprendizados sobre a importância das regras de Indicações de Origem e Proteção do Vinho nas Indicações Geográficas. \nNão fique de fora\, anote na sua agenda: é a partir das 20h30\, aqui no Instagram da The Wine School Brasil!
URL:https://intelivino.com.br/evento/indicacoes-de-origem-e-protecao-do-vinho-the-wine-school-brasil/
LOCATION:Live – Instagram
CATEGORIES:Webinar/Live
ATTACH;FMTTYPE=image/jpeg:https://intelivino.com.br/wp-content/uploads/2020/09/Live-The-Wine-School-BR-10.09.2020.jpeg
END:VEVENT
BEGIN:VEVENT
DTSTART;TZID=America/Sao_Paulo:20200911T120000
DTEND;TZID=America/Sao_Paulo:20200911T130000
DTSTAMP:20260419T124749
CREATED:20200911T124149Z
LAST-MODIFIED:20200911T124149Z
UID:31576-1599825600-1599829200@intelivino.com.br
SUMMARY:Château Lynch-Bages * The Wine School
DESCRIPTION:Você já está sabendo da novidade? Nesta sexta-feira\, o professor Felipe Campos receberá Jean-Charles Cazes para uma conversa interessante sobre questões relevantes na produção bordalesa. Traga suas dúvidas e comentários sobre o tema e aproveite uma live extremamente informativa! \n@chateaulynchbages  @famillejmcazes
URL:https://intelivino.com.br/evento/chateau-lynch-bages-the-wine-school/
LOCATION:Live – Instagram
CATEGORIES:Webinar/Live
ATTACH;FMTTYPE=image/jpeg:https://intelivino.com.br/wp-content/uploads/2020/09/Live-The-Wine-School-BR-11.09.2020.jpeg
END:VEVENT
BEGIN:VEVENT
DTSTART;TZID=America/Sao_Paulo:20200911T190000
DTEND;TZID=America/Sao_Paulo:20200911T200000
DTSTAMP:20260419T124749
CREATED:20200911T124836Z
LAST-MODIFIED:20200911T124836Z
UID:31577-1599850800-1599854400@intelivino.com.br
SUMMARY:Bodegas Valdemar * Mistral
DESCRIPTION:Convite especial para quem não dispensa um bom bate-papo sobre vinhos 🙋‍♂️: hoje receberemos\, aqui em nosso instagram\, a embaixadora da Bodegas Valdemar para a América Latina\, Enara Basterrechea.⠀\n⠀\nA live acontecerá a partir das 19h e vamos descobrir mais detalhes sobre esta vinícola centenária que ano após ano consegue se manter entre os grandes nomes do vinho espanhol\, priorizando a tradição e o altíssimo nível. 🏆 Fundada por Joaquín Martínez Bujanda\, a Bodegas Valdemar produz vinhos extraordinários e é referência na região de Rioja.⠀\n⠀\nÉ claro que você não vai perder essa\, né? Então separa aquele vinho especial que este encontro promete! ☺️✌️⠀
URL:https://intelivino.com.br/evento/bodegas-valdemar-mistral/
LOCATION:Live – Instagram
CATEGORIES:Webinar/Live
ATTACH;FMTTYPE=image/jpeg:https://intelivino.com.br/wp-content/uploads/2020/09/Live-Mistral-11.09.2020.jpeg
END:VEVENT
BEGIN:VEVENT
DTSTART;TZID=America/Sao_Paulo:20200911T200000
DTEND;TZID=America/Sao_Paulo:20200911T210000
DTSTAMP:20260419T124749
CREATED:20200909T133549Z
LAST-MODIFIED:20200909T133549Z
UID:31570-1599854400-1599858000@intelivino.com.br
SUMMARY:Degustação ao vivo * Cave Nacional
DESCRIPTION:Neste sexta\, dia 11/09\, às 20 horas\, faremos uma live no nosso instagram @cavenacional.\n⠀\nDegustação ao vivo com Karina e Marcelo (proprietários)\, com participação especial de Maicon Motter\, Enólogo da\nVinícola Don Guerino!\n⠀⠀\nPeça seu Kit e participe conosco!\n⠀\nhttps://cavenacional.com.br/1173-kit-221-kit-don-guerino-degustacao-virtual-sexta-11-09.html?search_query=Kit&results=6
URL:https://intelivino.com.br/evento/degustacao-ao-vivo-cave-nacional-9/
LOCATION:Live – Instagram
CATEGORIES:Webinar/Live
ATTACH;FMTTYPE=image/jpeg:https://intelivino.com.br/wp-content/uploads/2020/09/Live-Cave-Nacional-09.09.2020.jpeg
END:VEVENT
BEGIN:VEVENT
DTSTART;TZID=America/Sao_Paulo:20200916T190000
DTEND;TZID=America/Sao_Paulo:20200916T200000
DTSTAMP:20260419T124749
CREATED:20200916T131708Z
LAST-MODIFIED:20200916T131708Z
UID:31579-1600282800-1600286400@intelivino.com.br
SUMMARY:Grupo Miolo * ABS-SP
DESCRIPTION:Nesta quarta-feira temos live no Instagram da @abs_sp. Não perca esse bate papo entre Mario Telles e Fábio Miolo\, muita história\, boa informação e dicas ótimas. Abram o vinho\, marquem os amigos e vamos juntos para mais conhecimento. \n@grupomiolo @miolofabio @mariotellesjunior 
URL:https://intelivino.com.br/evento/grupo-miolo-abs-sp/
LOCATION:Live – Instagram
CATEGORIES:Webinar/Live
ATTACH;FMTTYPE=image/jpeg:https://intelivino.com.br/wp-content/uploads/2020/09/Live-ABSSP-16.09.2020.jpeg
ORGANIZER;CN="ABS-SP":MAILTO:contato@abs-sp.com.br
END:VEVENT
BEGIN:VEVENT
DTSTART;TZID=America/Sao_Paulo:20200916T200000
DTEND;TZID=America/Sao_Paulo:20200916T210000
DTSTAMP:20260419T124749
CREATED:20200914T122500Z
LAST-MODIFIED:20200914T122500Z
UID:31578-1600286400-1600290000@intelivino.com.br
SUMMARY:Restaurante Lasai e sua carta de vinhos sustentáveis * ABS-Rio
DESCRIPTION:Sommelière do Lasai desde 2017\, quando passou a responder pela carta de vinhos do restaurante\, Maíra Freire estará conosco em uma live imperdível. Na próxima quarta\, dia 16 de setembro\, a profissional vai contar sobre sua experiência na idealização de uma carta de vinhos sustentáveis para o celebrado restaurante\, detentor de uma estrela Michelin\, e no serviço enquanto expressão estética. ⠀\n⠀\nA live contará com mediação de nosso presidente Joseph Morgan. Para participar basta entrar aqui no Instagram às 20h de terça e clicar sobre o logo\, que estará sinalizado com a legenda AO VIVO.⠀\n⠀\n⠀\nLive: Restaurante Lasai e sua carta de vinhos sustentáveis ⠀\nCom Maíra Freire\, sommelière do Lasai ⠀\nDia 16 de setembro\, terça-feira\, às 20h⠀
URL:https://intelivino.com.br/evento/restaurante-lasai-e-sua-carta-de-vinhos-sustentaveis-abs-rio/
LOCATION:Live – Instagram
CATEGORIES:Webinar/Live
ATTACH;FMTTYPE=image/jpeg:https://intelivino.com.br/wp-content/uploads/2020/09/Live-ABSRIO-15.09.2020.jpeg
ORGANIZER;CN="ABS-Rio":MAILTO:abs@abs-rio.com.br
END:VEVENT
BEGIN:VEVENT
DTSTART;TZID=America/Sao_Paulo:20200917T190000
DTEND;TZID=America/Sao_Paulo:20200917T200000
DTSTAMP:20260419T124749
CREATED:20200917T132206Z
LAST-MODIFIED:20200917T132206Z
UID:31583-1600369200-1600372800@intelivino.com.br
SUMMARY:Masterclass: Grenache * Portus Cale
DESCRIPTION:🍷
URL:https://intelivino.com.br/evento/masterclass-grenache-portus-cale/
LOCATION:Live – Instagram
CATEGORIES:Webinar/Live
ATTACH;FMTTYPE=image/jpeg:https://intelivino.com.br/wp-content/uploads/2020/09/Live-Portus-Cale-17.09.2020.jpeg
END:VEVENT
BEGIN:VEVENT
DTSTART;TZID=America/Sao_Paulo:20200917T190000
DTEND;TZID=America/Sao_Paulo:20200917T200000
DTSTAMP:20260419T124749
CREATED:20200916T133018Z
LAST-MODIFIED:20200916T133018Z
UID:31580-1600369200-1600372800@intelivino.com.br
SUMMARY:Viña Undurraga * Pró-Vinho
DESCRIPTION:Na próxima quinta-feira\, dia 17\, às 19h\, vamos receber no Instagram da Pró-Vinho o chileno Nicolas Farías Torres\, diretor de exportação da Viña Undurraga para a América Latina. Cujos vinhos são importantes pela @inovinivinhos. \nDurante a Live\, conduzida pelo jornalista @rcastilho\, diretor editorial da revista Prazeres da Mesa\, será abordada a trajetória da vinícola\, com foco na linha TH – ou Terroir Hunter (Caçador de Terroir) –\, que traduz a busca pelo terroir ideal para cada variedade de uva. Não perca! @winesofchile 
URL:https://intelivino.com.br/evento/vina-undurraga-pro-vinho/
LOCATION:Live – Instagram
CATEGORIES:Webinar/Live
ATTACH;FMTTYPE=image/jpeg:https://intelivino.com.br/wp-content/uploads/2020/09/Live-Pro-Vinho-16.09.2020.jpeg
ORGANIZER;CN="Pr%C3%B3-Vinho":MAILTO:contato@provinho.org.br
END:VEVENT
BEGIN:VEVENT
DTSTART;TZID=America/Sao_Paulo:20200918T160000
DTEND;TZID=America/Sao_Paulo:20200918T170000
DTSTAMP:20260419T124749
CREATED:20200917T131044Z
LAST-MODIFIED:20200917T131044Z
UID:31582-1600444800-1600448400@intelivino.com.br
SUMMARY:Vinhos do Dão * The Wine School
DESCRIPTION:🍷
URL:https://intelivino.com.br/evento/vinhos-do-dao-the-wine-school/
LOCATION:Live – Instagram
CATEGORIES:Webinar/Live
ATTACH;FMTTYPE=image/jpeg:https://intelivino.com.br/wp-content/uploads/2020/09/Live-The-Wine-School-17.09.2020.jpeg
END:VEVENT
BEGIN:VEVENT
DTSTART;TZID=America/Sao_Paulo:20200922T200000
DTEND;TZID=America/Sao_Paulo:20200922T210000
DTSTAMP:20260419T124749
CREATED:20200918T125842Z
LAST-MODIFIED:20200918T125842Z
UID:31584-1600804800-1600808400@intelivino.com.br
SUMMARY:Vinhos da região do Tejo * ABS-Rio
DESCRIPTION:Na próxima terça\, dia 22\, receberemos para uma live aqui em nosso Instagram o português Gonçalo da Cunha Ferreira. Gonçalo é sócio da 4U.wine\, curadoria especializada em vinhos do Velho Mundo\, e vai nos guiar na degustação do tinto Bridão Private Collection 2016.⠀\nDurante a conversa\, que terá mediação do professor Fernando Lima\, Gonçalo vai contar sobre a história do Tejo\, região que vem despontando no cenário vitivinícola português\, e seus diversos terroirs. \nE para os seguidores que optarem por degustar online\, a 4U.wine vai conceder um desconto exclusivo. Confira abaixo todas as informações!⠀\n⠀\nBenefício ABS-Rio + 4U.wine⠀\n10% de desconto (aplicável a todos os vinhos do site)⠀\nEncomendas: 4u.wine⠀\nCódigo para desconto: ABSRJ4U⠀\nValidade: 30/09⠀
URL:https://intelivino.com.br/evento/vinhos-da-regiao-do-tejo-abs-rio/
LOCATION:Live – Instagram
CATEGORIES:Webinar/Live
ATTACH;FMTTYPE=image/jpeg:https://intelivino.com.br/wp-content/uploads/2020/09/Live-ABSRIO-18.09.2020.jpeg
ORGANIZER;CN="ABS-Rio":MAILTO:abs@abs-rio.com.br
END:VEVENT
BEGIN:VEVENT
DTSTART;TZID=America/Sao_Paulo:20200922T203000
DTEND;TZID=America/Sao_Paulo:20200922T213000
DTSTAMP:20260419T124749
CREATED:20200922T131252Z
LAST-MODIFIED:20200922T131252Z
UID:31587-1600806600-1600810200@intelivino.com.br
SUMMARY:Vale do Rio São Francisco * The Wine School
DESCRIPTION:Curioso para saber tudo sobre os vinhos do Vale São Francisco? Então você vai gostar da live desta terça-feira\, com a professora Keli Bergamo e participação de Ricardo Henriques\, da Vinícola Rio Sol. Prepare seu vinho e suas perguntas.
URL:https://intelivino.com.br/evento/vale-do-rio-sao-francisco-the-wine-school/
LOCATION:Live – Instagram
CATEGORIES:Webinar/Live
ATTACH;FMTTYPE=image/jpeg:https://intelivino.com.br/wp-content/uploads/2020/09/Live-The-Wine-School-BR-22.09.2020.jpeg
END:VEVENT
BEGIN:VEVENT
DTSTART;TZID=America/Sao_Paulo:20200923T190000
DTEND;TZID=America/Sao_Paulo:20200923T200000
DTSTAMP:20260419T124749
CREATED:20200923T133755Z
LAST-MODIFIED:20200923T133755Z
UID:31592-1600887600-1600891200@intelivino.com.br
SUMMARY:Masterclass: Chardonnay * Portus Cale
DESCRIPTION:🍷
URL:https://intelivino.com.br/evento/masterclass-chardonnay-portus-cale/
LOCATION:Live – Instagram
CATEGORIES:Webinar/Live
ATTACH;FMTTYPE=image/jpeg:https://intelivino.com.br/wp-content/uploads/2020/09/Live-Portus-Cale-23.09.2020.jpeg
END:VEVENT
BEGIN:VEVENT
DTSTART;TZID=America/Sao_Paulo:20200923T190000
DTEND;TZID=America/Sao_Paulo:20200923T200000
DTSTAMP:20260419T124749
CREATED:20200922T130212Z
LAST-MODIFIED:20200922T130212Z
UID:31586-1600887600-1600891200@intelivino.com.br
SUMMARY:Casa Geraldo * ABS-SP
DESCRIPTION:A Serra da Mantiqueira vem despontando como uma das melhores regiões vinícolas do Brasil. Nessa live\, os irmãos Carlos – enólogo e Luiz Henrique Marcon – agrônomo – da Casa Geraldo\, uma das vinícolas de maior sucesso na região\, conversam com Arthur Azevedo – da ABS-SP e contam como começou esse bem sucedido projeto na cidade de Andradas\, assim como os detalhes da viticultura de dupla poda\, vinificação\, enoturismo\, projetos futuros\, parceria com a Epamig e muito mais. Não perca. Será no dia 23/9\, às 19 horas\, no Instagram da @abs_sp. \n@artwine @casageraldo @casageraldo_villacampino
URL:https://intelivino.com.br/evento/casa-geraldo-abs-sp/
LOCATION:Live – Instagram
CATEGORIES:Webinar/Live
ATTACH;FMTTYPE=image/jpeg:https://intelivino.com.br/wp-content/uploads/2020/09/Live-ABSSP-22.09.2020.jpeg
ORGANIZER;CN="ABS-SP":MAILTO:contato@abs-sp.com.br
END:VEVENT
BEGIN:VEVENT
DTSTART;TZID=America/Sao_Paulo:20200923T200000
DTEND;TZID=America/Sao_Paulo:20200923T210000
DTSTAMP:20260419T124749
CREATED:20200923T130918Z
LAST-MODIFIED:20200923T130918Z
UID:31589-1600891200-1600894800@intelivino.com.br
SUMMARY:Parrilla e os vinhos uruguaios * Decanter
DESCRIPTION:🍷😍 Quarta-feira é DIA de LIVE! \nHoje nosso convidado especial é o Antônio Costaguta\, do IG: @eltopador. E o tema abordado não poderia ser melhor: Parrilla e os vinhos uruguaios. Fiquem ligados em nosso IG e anotem todas as dicas de harmonização e o tempero do chef! \nTe esperamos às 20h 😉
URL:https://intelivino.com.br/evento/parrilla-e-os-vinhos-uruguaios-decanter/
LOCATION:Live – Instagram
CATEGORIES:Webinar/Live
ATTACH;FMTTYPE=image/jpeg:https://intelivino.com.br/wp-content/uploads/2020/09/Live-Decanter-23.09.2020.jpeg
END:VEVENT
BEGIN:VEVENT
DTSTART;TZID=America/Sao_Paulo:20200924T180000
DTEND;TZID=America/Sao_Paulo:20200924T190000
DTSTAMP:20260419T124749
CREATED:20200923T132308Z
LAST-MODIFIED:20200923T132308Z
UID:31590-1600970400-1600974000@intelivino.com.br
SUMMARY:Vinho e Comida Brasileira * Pró-Vinho
DESCRIPTION:Na próxima quinta-feira\, dia 24\, às 18h\, vamos falar de Vinho e Comida Brasileira na Live conduzida pela jornalista Solange Souza com a sommélière e bartender Deise Novakoski. \nCom quatro décadas de experiência\, Deise já atuou nos salões de renomados restaurantes no Rio de Janeiro\, além de trabalhar como consultora e dar aulas\, sempre buscando falar de forma simples\, trazendo o vinho para o dia a dia. Não perca!
URL:https://intelivino.com.br/evento/vinho-e-comida-brasileira-pro-vinho/
LOCATION:Live – Instagram
CATEGORIES:Webinar/Live
ATTACH;FMTTYPE=image/jpeg:https://intelivino.com.br/wp-content/uploads/2020/09/Live-Pro-Vinho-23.09.2020..jpeg
ORGANIZER;CN="Pr%C3%B3-Vinho":MAILTO:contato@provinho.org.br
END:VEVENT
BEGIN:VEVENT
DTSTART;TZID=America/Sao_Paulo:20200925T200000
DTEND;TZID=America/Sao_Paulo:20200925T210000
DTSTAMP:20260419T124749
CREATED:20200923T132952Z
LAST-MODIFIED:20200923T132952Z
UID:31591-1601064000-1601067600@intelivino.com.br
SUMMARY:Degustação ao vivo * Cave Nacional
DESCRIPTION:Live da semana! 🍷📱\n⠀\nNeste sexta\, dia 25/09\, às 20 horas\, faremos uma live no nosso instagram @cavenacional.\n⠀\nDegustação ao vivo com Karina e Marcelo (proprietários)\, com participação especial de Michelle Sani Borella e Augusto Borella\, proprietários da Vinícola Helios!\n⠀⠀\nPeça seus Kit e participe conosco!\n⠀\nhttps://cavenacional.com.br/1183-kit-241-kit-lancamento-helios-tannat-2018.html
URL:https://intelivino.com.br/evento/degustacao-ao-vivo-cave-nacional-10/
LOCATION:Live – Instagram
CATEGORIES:Webinar/Live
ATTACH;FMTTYPE=image/jpeg:https://intelivino.com.br/wp-content/uploads/2020/09/Live-Cave-Nacional-23.09.2020.jpeg
END:VEVENT
BEGIN:VEVENT
DTSTART;TZID=America/Sao_Paulo:20200928T190000
DTEND;TZID=America/Sao_Paulo:20200928T200000
DTSTAMP:20260419T124749
CREATED:20200928T133532Z
LAST-MODIFIED:20200928T133532Z
UID:31599-1601319600-1601323200@intelivino.com.br
SUMMARY:Masterclass: Merlot * Portus Cale
DESCRIPTION:🍷
URL:https://intelivino.com.br/evento/masterclass-merlot-portus-cale/
LOCATION:Live – Instagram
CATEGORIES:Webinar/Live
ATTACH;FMTTYPE=image/jpeg:https://intelivino.com.br/wp-content/uploads/2020/09/Live-Portus-Cale-28.09.2020.jpeg
END:VEVENT
BEGIN:VEVENT
DTSTART;TZID=America/Sao_Paulo:20200929T190000
DTEND;TZID=America/Sao_Paulo:20200929T200000
DTSTAMP:20260419T124749
CREATED:20200929T131626Z
LAST-MODIFIED:20200929T131626Z
UID:31602-1601406000-1601409600@intelivino.com.br
SUMMARY:História com vinho * Evino
DESCRIPTION:🍷
URL:https://intelivino.com.br/evento/historia-com-vinho-evino/
LOCATION:Live – Instagram
CATEGORIES:Webinar/Live
ATTACH;FMTTYPE=image/jpeg:https://intelivino.com.br/wp-content/uploads/2020/09/Live-Evino-29.09.2020.jpeg
END:VEVENT
BEGIN:VEVENT
DTSTART;TZID=America/Sao_Paulo:20200929T200000
DTEND;TZID=America/Sao_Paulo:20200929T210000
DTSTAMP:20260419T124749
CREATED:20200928T125141Z
LAST-MODIFIED:20200928T125141Z
UID:31595-1601409600-1601413200@intelivino.com.br
SUMMARY:Vitivinicultura da família Pizzato * ABS-Rio
DESCRIPTION:Na próxima terça\, dia 29\, receberemos o enólogo Flávio Pizzato para uma live sobre a vitivinicultura da família Plínio Pizzato\, instalada na região de Bento Gonçalves. Com mediação de Fernando Lima\, professor e diretor da ABS-Rio\, Flávio vai falar sobre os mais de 20 anos de produção da vinícola e degustar ao vivo o Pizzato Merlot 2018. Nossos seguidores poderão adquirir este e outros exemplares da vinícola com um desconto de 12% através da Serrado Vinhos\, até o dia 6 de outubro.⠀\n⠀\nPara participar da live basta entrar aqui no Instagram às 20h do dia 29 e clicar sobre o logo da ABS-Rio\, que estará sinalizado com a legenda AO VIVO. Se interessou? Confira abaixo as informações e desfrute de mais um benefício ABS-Rio!⠀\n⠀\nLive: A vitivinicultura da família Pizzato⠀\nCom o enólogo Flávio Pizzato⠀\nDia 29 de setembro\, terça-feira\, às 20h⠀ \nCupom de desconto: ABS2909⠀\nBenefício: 12% em toda a linha Pizzato⠀\nValidade: 06/10/2020⠀\nPedidos: WhatsApp (21) 99447-5212
URL:https://intelivino.com.br/evento/vitivinicultura-da-familia-pizzato-abs-rio/
LOCATION:Live – Instagram
CATEGORIES:Webinar/Live
ATTACH;FMTTYPE=image/jpeg:https://intelivino.com.br/wp-content/uploads/2020/09/Live-ABSRIO-28.09.2020.jpeg
ORGANIZER;CN="ABS-Rio":MAILTO:abs@abs-rio.com.br
END:VEVENT
BEGIN:VEVENT
DTSTART;TZID=America/Sao_Paulo:20200929T203000
DTEND;TZID=America/Sao_Paulo:20200929T213000
DTSTAMP:20260419T124749
CREATED:20200929T130201Z
LAST-MODIFIED:20200929T130201Z
UID:31601-1601411400-1601415000@intelivino.com.br
SUMMARY:Indicação de procedência da Campanha Gaúcha * The Wine School Brasil
DESCRIPTION:Vinhos da Campanha Gaúcha ganham Indicação de Procedência\, e nesta live de terça-feira falaremos tudo sobre o assunto com o professor Alex Copetti e Giovâni Silveira Peres. \nÉ a partir das 20h30. Esperamos por você\, participe! 😉
URL:https://intelivino.com.br/evento/indicacao-de-procedencia-da-campanha-gaucha-the-wine-school-brasil/
LOCATION:Live – Instagram
CATEGORIES:Webinar/Live
ATTACH;FMTTYPE=image/jpeg:https://intelivino.com.br/wp-content/uploads/2020/09/COPY-Live-The-Wine-School-BR-22.09.2020.jpeg
END:VEVENT
BEGIN:VEVENT
DTSTART;TZID=America/Sao_Paulo:20200930T190000
DTEND;TZID=America/Sao_Paulo:20200930T200000
DTSTAMP:20260419T124749
CREATED:20200930T131340Z
LAST-MODIFIED:20200930T131340Z
UID:31603-1601492400-1601496000@intelivino.com.br
SUMMARY:Pizza Napoletana - Tradição e Harmonização * ABS-SP
DESCRIPTION:Nesta quarta-feira (30/09) às 19 horas teremos mais uma live incrível no instagram da @abs_sp\, Mario Telles e Fabio Muccio conversam sobre harmonização entre pizza e vinho. A Leggera trabalha com massa de fermentação natural e farinha italiana. Os ingredientes utilizados são todos de produção artesanal e vários deles também importados de pequenos produtores da Itália. Você pode acompanhar nossa live degustando uma deliciosa pizza e harmonizar com os vinhos sugeridos por Mario Telles. \nPizzas:\n– MARGHERITA VERACE (Molho de tomate\, manjericão\, mozzarella de búfala\, parmesão e azeite).\n– LA DIVINA COMMEDIA (Mozzarella de búfala\, manjericão\, parmesão\, provola defumada\, linguiça curada picante\, cebola roxa caramelizada\, parmesão e azeite)\n*Faça seu pedido através do aplicativo ifood @ifoodbrasil na Leggera Pizza Napoletana. \nVinhos:\n– Tormaresca Torcicoda Primitivo 2015\, WineBrands\n– Massolino Barbera D’alba DOC 2017\, Grand Crú \nMarquem os amigos e vamos juntos participar dessa experiência.
URL:https://intelivino.com.br/evento/pizza-napoletana-tradicao-e-harmonizacao-abs-sp/
LOCATION:Live – Instagram
CATEGORIES:Webinar/Live
ATTACH;FMTTYPE=image/jpeg:https://intelivino.com.br/wp-content/uploads/2020/09/Live-ABSSP-30.09.2020.jpeg
ORGANIZER;CN="ABS-SP":MAILTO:contato@abs-sp.com.br
END:VEVENT
BEGIN:VEVENT
DTSTART;TZID=America/Sao_Paulo:20201001T180000
DTEND;TZID=America/Sao_Paulo:20201001T190000
DTSTAMP:20260419T124749
CREATED:20200930T133211Z
LAST-MODIFIED:20200930T133211Z
UID:31604-1601575200-1601578800@intelivino.com.br
SUMMARY:Diferenças entre os vinhos orgânicos\, biodinâmicos e naturais * Pró-Vinho
DESCRIPTION:Na próxima quinta-feira\, dia 1° de outubro\, às 18h\, vamos receber na Pró-Vinho a enóloga e produtora Marina Santos\, da Vinha Unna\, vinícola criada por ela e o marido\, Israel\, na Serra Gaúcha. Marina adota a biodinâmica e a vinificação natural para produzir seus vinhos\, considerados puros e autênticos. \nO jornalista Didu Russo vai conduzir a Live\, cujo tema principal será mostrar as diferenças entre os vinhos orgânicos\, biodinâmicos e naturais. Não percam!
URL:https://intelivino.com.br/evento/diferencas-entre-os-vinhos-organicos-biodinamicos-e-naturais-pro-vinho/
LOCATION:Live – Instagram
CATEGORIES:Webinar/Live
ATTACH;FMTTYPE=image/jpeg:https://intelivino.com.br/wp-content/uploads/2020/09/Live-Pro-Vinho-30.09.2020.jpeg
ORGANIZER;CN="Pr%C3%B3-Vinho":MAILTO:contato@provinho.org.br
END:VEVENT
BEGIN:VEVENT
DTSTART;TZID=America/Sao_Paulo:20201006T200000
DTEND;TZID=America/Sao_Paulo:20201006T210000
DTSTAMP:20260419T124749
CREATED:20201002T131718Z
LAST-MODIFIED:20201002T131718Z
UID:31607-1602014400-1602018000@intelivino.com.br
SUMMARY:Vinhos do Chile * ABS-Rio
DESCRIPTION:País que mais exporta vinhos para o Brasil\, o Chile vem encantando o mundo com sua produção. Para falar sobre o tema\, nosso professor Euclides Penedo Borges estará conosco na próxima terça-feira em uma live\, falando sobre as mais famosas vinícolas chilenas\, as principais regiões produtoras\, seus microclimas e solos\, e as variedades de uvas encontradas no país. \nA live contará com mediação da jornalista Laura Cavallieri\, diretora da Comunica e assessora de comunicação da ABS-Rio. Para participar\, basta entrar aqui no Instagram às 20h do dia 6 e clicar sobre o logo da ABS-Rio\, que estará sinalizado com a legenda AO VIVO. Esperamos por você!⠀\n⠀\nLive: Vinhos do Chile⠀\nCom Euclides Penedo Borges⠀\nDia 06/10\, terça-feira\, às 20h⠀
URL:https://intelivino.com.br/evento/vinhos-do-chile-abs-rio/
LOCATION:Live – Instagram
CATEGORIES:Webinar/Live
ATTACH;FMTTYPE=image/jpeg:https://intelivino.com.br/wp-content/uploads/2020/10/Live-ABSRIO-02.10.2020.jpeg
ORGANIZER;CN="ABS-Rio":MAILTO:abs@abs-rio.com.br
END:VEVENT
END:VCALENDAR