BEGIN:VCALENDAR
VERSION:2.0
PRODID:-//Intelivino - ECPv5.14.1//NONSGML v1.0//EN
CALSCALE:GREGORIAN
METHOD:PUBLISH
X-WR-CALNAME:Intelivino
X-ORIGINAL-URL:https://intelivino.com.br
X-WR-CALDESC:Eventos para Intelivino
REFRESH-INTERVAL;VALUE=DURATION:PT1H
X-Robots-Tag:noindex
X-PUBLISHED-TTL:PT1H
BEGIN:VTIMEZONE
TZID:America/Sao_Paulo
BEGIN:STANDARD
TZOFFSETFROM:-0300
TZOFFSETTO:-0300
TZNAME:-03
DTSTART:20200101T000000
END:STANDARD
END:VTIMEZONE
BEGIN:VEVENT
DTSTART;TZID=America/Sao_Paulo:20200630T150000
DTEND;TZID=America/Sao_Paulo:20200630T160000
DTSTAMP:20260420T093928
CREATED:20200626T130823Z
LAST-MODIFIED:20200626T130823Z
UID:31353-1593529200-1593532800@intelivino.com.br
SUMMARY:Maison Louis Jadot * Marcelo Copello
DESCRIPTION:Boa tarde amigos\, tenho uma ótima notícia! Semana que vem farei uma LIVE com Frédéric Barnier\, o Enólogo Chefe da Maison Louis Jadot\, da BORGONHA!\nSerá uma verdadeira aula sobre esta região dos sonhos com prova de alguns dos grandes vinhos desta tradicional Maison. \nOBS.: A live será em Inglês.  \nDATA: 30 de Junho\, terça-feira\nHora: 15h\nOnde: Instagram @marcelocopello e @todovinobr
URL:https://intelivino.com.br/evento/maison-louis-jadot-marcelo-copello/
LOCATION:Live – Instagram
CATEGORIES:Webinar/Live
ATTACH;FMTTYPE=image/jpeg:https://intelivino.com.br/wp-content/uploads/2020/06/Live-MarceloCopello-26.06.2020.jpeg
END:VEVENT
BEGIN:VEVENT
DTSTART;TZID=America/Sao_Paulo:20200630T190000
DTEND;TZID=America/Sao_Paulo:20200630T200000
DTSTAMP:20260420T093928
CREATED:20200630T123038Z
LAST-MODIFIED:20200630T123038Z
UID:31356-1593543600-1593547200@intelivino.com.br
SUMMARY:Gramona - A evolução dos espumantes na Espanha * ABS-SP
DESCRIPTION:Live de hoje com Arthur Azevedo\, vice-presidente da ABS-SP e Linda Diaz\, Sommelière-chef da Gramona.\nVamos descobrir os segredos do melhor vinho espumante da Espanha\, integrante da prestigiosa associação de vinhos premium Corpinatt. \nHoje\, às 19 horas\, no Instagram da @abs_sp. Marquem os amigos!
URL:https://intelivino.com.br/evento/gramona-a-evolucao-dos-espumantes-na-espanha-abs-sp/
LOCATION:Live – Instagram
CATEGORIES:Webinar/Live
ATTACH;FMTTYPE=image/jpeg:https://intelivino.com.br/wp-content/uploads/2020/06/Live-ABSSP-30.06.2020.jpeg
ORGANIZER;CN="ABS-SP":MAILTO:contato@abs-sp.com.br
END:VEVENT
BEGIN:VEVENT
DTSTART;TZID=America/Sao_Paulo:20200630T200000
DTEND;TZID=America/Sao_Paulo:20200630T210000
DTSTAMP:20260420T093928
CREATED:20200615T132132Z
LAST-MODIFIED:20200615T132132Z
UID:31307-1593547200-1593550800@intelivino.com.br
SUMMARY:Chile – Projeto Novo Chile * ABS-Rio
DESCRIPTION:No dia 30\, terça\, receberemos David Giacomini\, produtor da vinícola chilena La Recova\, no Valle de Casablanca\, falando sobre o projeto Novo Chile. David\, que participou de grupos de degustação da ABS-Rio\, é o responsável pela elaboração do premiado vinho Avid\, que conquistou 92 pontos no Guia Descorchados. David plantou suas primeiras vinhas🍇 em 2005 e colheu a primeira safra em 2010. Com mediação da professora Ligia Peçanha\, a live acontece às 20h\, nosso horário tradicional\, aqui no Instagram.
URL:https://intelivino.com.br/evento/chile-projeto-novo-chile-abs-rio/
LOCATION:Live – Instagram
CATEGORIES:Webinar/Live
ATTACH;FMTTYPE=image/jpeg:https://intelivino.com.br/wp-content/uploads/2020/06/live-absrio-30.06.2020.jpeg
ORGANIZER;CN="ABS-Rio":MAILTO:abs@abs-rio.com.br
END:VEVENT
BEGIN:VEVENT
DTSTART;TZID=America/Sao_Paulo:20200701T183000
DTEND;TZID=America/Sao_Paulo:20200701T193000
DTSTAMP:20260420T093928
CREATED:20200701T123131Z
LAST-MODIFIED:20200701T123131Z
UID:31367-1593628200-1593631800@intelivino.com.br
SUMMARY:Quinta do Monte d’Oiro * Mistral
DESCRIPTION:Separe um bom vinho português para nossa próxima live: nesta quarta\, 01/07 às 18h30\, iremos conversar com Francisco Bento dos Santos\, proprietário e diretor geral da Quinta do Monte d’Oiro\, sobre os maravilhosos vinhos tintos e grandes sucessos em degustações desta consagrada vinícola da região de Lisboa. \nEsperamos por vocês em nosso Instagram! 🍷🇵🇹
URL:https://intelivino.com.br/evento/quinta-do-monte-doiro-mistral/
LOCATION:Live – Instagram
CATEGORIES:Webinar/Live
ATTACH;FMTTYPE=image/jpeg:https://intelivino.com.br/wp-content/uploads/2020/07/Live-Mistral-01.07.2020.jpeg
END:VEVENT
BEGIN:VEVENT
DTSTART;TZID=America/Sao_Paulo:20200701T190000
DTEND;TZID=America/Sao_Paulo:20200701T200000
DTSTAMP:20260420T093928
CREATED:20200701T113741Z
LAST-MODIFIED:20200701T113741Z
UID:31362-1593630000-1593633600@intelivino.com.br
SUMMARY:Produtos da Casa Valduga * Casa Valduga
DESCRIPTION:Não perca essa super Live \, será dia 01/07. Às 19h\, aqui no Instagram.\nUm bate papo super descontraído com o Sommelier Daniel\, da @casavalduga e o nosso Sommelier @volnei_signor.
URL:https://intelivino.com.br/evento/produtos-da-casa-valduga-casa-valduga/
LOCATION:Live – Instagram
CATEGORIES:Webinar/Live
ATTACH;FMTTYPE=image/jpeg:https://intelivino.com.br/wp-content/uploads/2020/07/Live-Casa-Valduga-01.07.2020.jpeg
END:VEVENT
BEGIN:VEVENT
DTSTART;TZID=America/Sao_Paulo:20200701T193000
DTEND;TZID=America/Sao_Paulo:20200701T203000
DTSTAMP:20260420T093928
CREATED:20200701T115917Z
LAST-MODIFIED:20200701T115917Z
UID:31364-1593631800-1593635400@intelivino.com.br
SUMMARY:Uma conversa com o Chef Érick Jacquin * ABS-SP
DESCRIPTION:Hoje às 19h30min teremos mais uma live espetacular\, um bate papo de José Luiz Borges com Érick Jacquin.\nNão percam!\nMarquem os amigos. \n@erickjacquin @rei60
URL:https://intelivino.com.br/evento/uma-conversa-com-o-chef-erick-jacquin-abs-sp/
LOCATION:Live – Instagram
CATEGORIES:Webinar/Live
ATTACH;FMTTYPE=image/jpeg:https://intelivino.com.br/wp-content/uploads/2020/07/Live-ABSSP-01.07.2020.jpeg
ORGANIZER;CN="ABS-SP":MAILTO:contato@abs-sp.com.br
END:VEVENT
BEGIN:VEVENT
DTSTART;TZID=America/Sao_Paulo:20200701T200000
DTEND;TZID=America/Sao_Paulo:20200701T210000
DTSTAMP:20260420T093928
CREATED:20200701T125440Z
LAST-MODIFIED:20200701T125440Z
UID:31369-1593633600-1593637200@intelivino.com.br
SUMMARY:Chile - Terra de vinhos e também de azeites * Casa Flora
DESCRIPTION:Na live dessa semana: Chile terra de Vinhos e também de AZEITES\, um bate papo com o chileno Sérgio Pina\, (Gerente Azeites DELEYDA para América Latina)\, falando sobre produção de azeite no Chile\, curiosidades e mitos\, como escolher um bom azeite\, técnicas de degustação e claro\, tudo sobre os premiados Azeites DELEYDA. \n@casafloraimportadora @deleyda_oficial @sergio_pina_1962
URL:https://intelivino.com.br/evento/chile-terra-de-vinhos-e-tambem-de-azeites-casa-flora/
LOCATION:Live – Instagram
CATEGORIES:Webinar/Live
ATTACH;FMTTYPE=image/jpeg:https://intelivino.com.br/wp-content/uploads/2020/07/Live-Casa-Flora-01.07.2020.jpeg
END:VEVENT
BEGIN:VEVENT
DTSTART;TZID=America/Sao_Paulo:20200701T200000
DTEND;TZID=America/Sao_Paulo:20200701T210000
DTSTAMP:20260420T093928
CREATED:20200701T122139Z
LAST-MODIFIED:20200701T122139Z
UID:31366-1593633600-1593637200@intelivino.com.br
SUMMARY:Como escolher vinhos italianos * The Wine School Brasil
DESCRIPTION:O professor Alex Copetti convida você para acompanhar\, nesta quarta-feira\, uma conversa imperdível com Vincenzo Protti sobre vinhos italianos e como escolher os rótulos ideais para apreciar. 🇮🇹 \nVai ser bom demais\, hein? Anota na agenda e coloca o lembrete pra não perder! 🍷
URL:https://intelivino.com.br/evento/como-escolher-vinhos-italianos-the-wine-school-brasil/
LOCATION:Live – Instagram
CATEGORIES:Webinar/Live
ATTACH;FMTTYPE=image/jpeg:https://intelivino.com.br/wp-content/uploads/2020/07/Live-Wine-School-01.07.2020.jpeg
END:VEVENT
BEGIN:VEVENT
DTSTART;TZID=America/Sao_Paulo:20200701T200000
DTEND;TZID=America/Sao_Paulo:20200701T210000
DTSTAMP:20260420T093928
CREATED:20200701T120826Z
LAST-MODIFIED:20200701T120826Z
UID:31365-1593633600-1593637200@intelivino.com.br
SUMMARY:Bodega Garzón * ABS-Campinas
DESCRIPTION:Estaremos hoje conversando com a sommelière Ana Paula Oliveira\, Brand Ambassador da Bodega Garzón. Vamos conversar sobre a função desse cargo\, o que ele representa para a marca\, quais os desafios? Além de falarmos sobre terroir (uvas \, clima\, solo\, etc.) Abordaremos também os novos projetos para esse ano e enoturismo. \nHoje as 20:00 pelo perfil da ABS-Campinas \, esperamos vocês 🍷🍷
URL:https://intelivino.com.br/evento/bodega-garzon-abs-campinas/
LOCATION:Live – Instagram
CATEGORIES:Webinar/Live
ATTACH;FMTTYPE=image/jpeg:https://intelivino.com.br/wp-content/uploads/2020/07/Live-ABS-Campinas-01.07.2020.jpeg
ORGANIZER;CN="ABS-Campinas":MAILTO:contato@abs-sp.campinas.br
END:VEVENT
BEGIN:VEVENT
DTSTART;TZID=America/Sao_Paulo:20200702T170000
DTEND;TZID=America/Sao_Paulo:20200702T180000
DTSTAMP:20260420T093928
CREATED:20200622T122421Z
LAST-MODIFIED:20200622T122421Z
UID:31329-1593709200-1593712800@intelivino.com.br
SUMMARY:Rosé Piscine * ABS-Rio
DESCRIPTION:Já no dia 2 de julho\, nossa live será às 17h. Receberemos o jornalista Rogério Rebouças\, especialista em vinhos franceses\, diretamente da cidade de Lézignan Corbières\, no Languedoc ✈️ Com mediação do professor Marcio Monteiro\, Rogério vai nos apresentar o Rosé Piscine\, o vinho francês mais vendido no Brasil em 2018 e 2019. Feito com a uva Negrette\, o Piscine é muito utilizado no preparo de drinks. \nAproveite e participe do sorteio de uma garrafa Magnum do Rosé Piscine\, que vai rolar na quinta-feira aqui no Instagram!
URL:https://intelivino.com.br/evento/rose-piscine-abs-rio/
LOCATION:Live – Instagram
CATEGORIES:Webinar/Live
ATTACH;FMTTYPE=image/jpeg:https://intelivino.com.br/wp-content/uploads/2020/06/live-rosepiscine-22-06-2020.jpeg
ORGANIZER;CN="ABS-Rio":MAILTO:abs@abs-rio.com.br
END:VEVENT
BEGIN:VEVENT
DTSTART;TZID=America/Sao_Paulo:20200702T180000
DTEND;TZID=America/Sao_Paulo:20200702T190000
DTSTAMP:20260420T093928
CREATED:20200701T123927Z
LAST-MODIFIED:20200701T123927Z
UID:31368-1593712800-1593716400@intelivino.com.br
SUMMARY:Novas fronteiras para o vinho brasileiro * Pró-Vinho
DESCRIPTION:Você conhece vinho paulista? Convidamos você a descobrir as novas fronteiras do vinho brasileiro no bate-papo entre Solange Souza e Luiz Barbui\, da @vinicolaguaspari!
URL:https://intelivino.com.br/evento/novas-fronteiras-para-o-vinho-brasileiro-pro-vinho/
LOCATION:Live – Instagram
CATEGORIES:Webinar/Live
ATTACH;FMTTYPE=image/jpeg:https://intelivino.com.br/wp-content/uploads/2020/07/Live-pro-vinho-01.07.2020.jpeg
ORGANIZER;CN="Pr%C3%B3-Vinho":MAILTO:contato@provinho.org.br
END:VEVENT
BEGIN:VEVENT
DTSTART;TZID=America/Sao_Paulo:20200702T190000
DTEND;TZID=America/Sao_Paulo:20200702T200000
DTSTAMP:20260420T093928
CREATED:20200702T121935Z
LAST-MODIFIED:20200702T121935Z
UID:31376-1593716400-1593720000@intelivino.com.br
SUMMARY:Educação no mundo do vinho * Portus Cale
DESCRIPTION:José Ferrazzo e Paulo Brammer \nNosso convidado: Fundador e diretor da Eno Cultura\, possui mais de quinze anos de experiência internacional como consultor e comprador. Juiz regular nas competições internacionais da Decanter Wine Awards e IWSC. Formador Homologado del Vino de Jerez pelo Consejo Regulador. \nAté lá! 🍷
URL:https://intelivino.com.br/evento/educacao-no-mundo-do-vinho-portus-cale/
LOCATION:Live – Instagram
CATEGORIES:Webinar/Live
ATTACH;FMTTYPE=image/jpeg:https://intelivino.com.br/wp-content/uploads/2020/07/Live-Portus-Cale-02.07.2020.jpeg
END:VEVENT
BEGIN:VEVENT
DTSTART;TZID=America/Sao_Paulo:20200702T190000
DTEND;TZID=America/Sao_Paulo:20200702T200000
DTSTAMP:20260420T093928
CREATED:20200702T114905Z
LAST-MODIFIED:20200702T114905Z
UID:31374-1593716400-1593720000@intelivino.com.br
SUMMARY:Destilados brasileiros * ABS-SP
DESCRIPTION:Hoje temos mais um encontro às 19horas\, Marcello Borges fará uma descontraída conversa com Aline Bortoletto sobre destilados Brasileiros.\nNão percam. Marquem os amigos. \n@aline_bortoletto @maob55
URL:https://intelivino.com.br/evento/destilados-brasileiros-abs-sp/
LOCATION:Live – Instagram
CATEGORIES:Webinar/Live
ATTACH;FMTTYPE=image/jpeg:https://intelivino.com.br/wp-content/uploads/2020/07/Live-ABSSP-02.07.2020.jpeg
ORGANIZER;CN="ABS-SP":MAILTO:contato@abs-sp.com.br
END:VEVENT
BEGIN:VEVENT
DTSTART;TZID=America/Sao_Paulo:20200702T200000
DTEND;TZID=America/Sao_Paulo:20200702T210000
DTSTAMP:20260420T093928
CREATED:20200702T123058Z
LAST-MODIFIED:20200702T123058Z
UID:31377-1593720000-1593723600@intelivino.com.br
SUMMARY:Harmonização com comida japonesa * Casa Flora
DESCRIPTION:@casafloraimportadora e @fernandogurgel convidam o chef @ohatasushistyle \n🍣 🍷
URL:https://intelivino.com.br/evento/harmonizacao-com-comida-japonesa-casa-flora/
LOCATION:Live – Instagram
CATEGORIES:Webinar/Live
ATTACH;FMTTYPE=image/jpeg:https://intelivino.com.br/wp-content/uploads/2020/07/Live-Casaflora-02.07.2020.jpeg
END:VEVENT
BEGIN:VEVENT
DTSTART;TZID=America/Sao_Paulo:20200703T190000
DTEND;TZID=America/Sao_Paulo:20200703T200000
DTSTAMP:20260420T093928
CREATED:20200703T125313Z
LAST-MODIFIED:20200703T125313Z
UID:31379-1593802800-1593806400@intelivino.com.br
SUMMARY:Espumantes do mundo * ABS-SP
DESCRIPTION:Sextouuuuuu… E para comemorar\, hoje vamos ter Live sobre espumantes com Junior Medeiros e José Luiz Borges.\nVocê não pode perder!!! Nos vemos às 19 horas. \n@juniormedeiros77 @rei60
URL:https://intelivino.com.br/evento/espumantes-do-mundo-abs-sp/
LOCATION:Live – Instagram
CATEGORIES:Webinar/Live
ATTACH;FMTTYPE=image/jpeg:https://intelivino.com.br/wp-content/uploads/2020/07/Live-ABSSP-03.07.2020.jpeg
ORGANIZER;CN="ABS-SP":MAILTO:contato@abs-sp.com.br
END:VEVENT
BEGIN:VEVENT
DTSTART;TZID=America/Sao_Paulo:20200703T190000
DTEND;TZID=America/Sao_Paulo:20200703T200000
DTSTAMP:20260420T093928
CREATED:20200702T120318Z
LAST-MODIFIED:20200702T120318Z
UID:31375-1593802800-1593806400@intelivino.com.br
SUMMARY:Galvão Bueno: Da paixão ao negócio do vinho * ABS-RS
DESCRIPTION:🍷 Vou bater uma bola on-line sobre vinhos com o @galvaobueno nesta sexta. \nAnota aí!
URL:https://intelivino.com.br/evento/galvao-bueno-da-paixao-ao-negocio-do-vinho-abs-rs/
LOCATION:Live – Instagram
CATEGORIES:Webinar/Live
ATTACH;FMTTYPE=image/jpeg:https://intelivino.com.br/wp-content/uploads/2020/07/Live-ABSRS-02.07.2020.jpeg
ORGANIZER;CN="ABS-RS":MAILTO:contato@absrs.com.br
END:VEVENT
BEGIN:VEVENT
DTSTART;TZID=America/Sao_Paulo:20200703T200000
DTEND;TZID=America/Sao_Paulo:20200703T210000
DTSTAMP:20260420T093928
CREATED:20200703T131226Z
LAST-MODIFIED:20200703T131226Z
UID:31381-1593806400-1593810000@intelivino.com.br
SUMMARY:Um bom vinho nasce apenas no vinhedo? * The Wine School Brasil
DESCRIPTION:Nesta live\, debateremos uma questão bastante curiosa: afinal\, vinho bom nasce apenas no vinhedo? Você com certeza já deve ter ouvido falar essa frase por aí! \nConfira nesta sexta-feira\, às 20h o quanto o trabalho vai muito além dos vinhedos! 🍷
URL:https://intelivino.com.br/evento/um-bom-vinho-nasce-apenas-no-vinhedo-the-wine-school-brasil/
LOCATION:Live – Instagram
CATEGORIES:Webinar/Live
ATTACH;FMTTYPE=image/jpeg:https://intelivino.com.br/wp-content/uploads/2020/07/Live-Wine-School-BR-03.07.2020.jpeg
END:VEVENT
BEGIN:VEVENT
DTSTART;TZID=America/Sao_Paulo:20200703T200000
DTEND;TZID=America/Sao_Paulo:20200703T210000
DTSTAMP:20260420T093928
CREATED:20200701T114647Z
LAST-MODIFIED:20200701T114647Z
UID:31363-1593806400-1593810000@intelivino.com.br
SUMMARY:Degustação ao vivo * Cave Nacional
DESCRIPTION:Live da semana!🍷😉\n⠀\nNesta sexta\, dia 03/07\, às 20 horas\, faremos uma live no nosso instagram @cavenacional.\n⠀\nDegustação ao vivo com Karina e Marcelo (proprietários)\, com participação especial de Paulo da Vinícola Casa Venturini!🍷\n⠀\nEscolha seu kit em nosso site e participe com a gente!😉\n⠀\nhttps://cavenacional.com.br/205-kit-vinhos
URL:https://intelivino.com.br/evento/degustacao-ao-vivo-cave-nacional/
LOCATION:Live – Instagram
CATEGORIES:Webinar/Live
ATTACH;FMTTYPE=image/jpeg:https://intelivino.com.br/wp-content/uploads/2020/07/Live-Cave-Nacional-01.07.2020.jpeg
END:VEVENT
BEGIN:VEVENT
DTSTART;TZID=America/Sao_Paulo:20200706T190000
DTEND;TZID=America/Sao_Paulo:20200706T200000
DTSTAMP:20260420T093928
CREATED:20200706T113907Z
LAST-MODIFIED:20200706T113907Z
UID:31382-1594062000-1594065600@intelivino.com.br
SUMMARY:Fábio La Pietra * ABS-SP
DESCRIPTION:Convidado: Fábio La Pietra \nNo final da live\, será preparado um Negroni clássico e quem quiser acompanhar\, tem que providenciar um Gim\, um Vermute e um amargo aperitivo da sua preferência. \n#academiadebartenders
URL:https://intelivino.com.br/evento/fabio-la-pietra-abs-sp/
LOCATION:Live – Instagram
CATEGORIES:Webinar/Live
ATTACH;FMTTYPE=image/jpeg:https://intelivino.com.br/wp-content/uploads/2020/07/Live-ABSSP-06.07.2020.jpeg
ORGANIZER;CN="ABS-SP":MAILTO:contato@abs-sp.com.br
END:VEVENT
BEGIN:VEVENT
DTSTART;TZID=America/Sao_Paulo:20200707T190000
DTEND;TZID=America/Sao_Paulo:20200707T200000
DTSTAMP:20260420T093928
CREATED:20200707T121355Z
LAST-MODIFIED:20200707T121355Z
UID:31385-1594148400-1594152000@intelivino.com.br
SUMMARY:Vinho Laranja x Umani * ABS-SP
DESCRIPTION:Nossa live de hoje aborda um tema bem curioso\, se organiza para não perder. \nMarque os amigos! Às 19 horas\, @mariotellesjunior e @sartoridu irão falar sobre Vinho Laranja x Umani.
URL:https://intelivino.com.br/evento/vinho-laranja-x-umani-abs-sp/
LOCATION:Live – Instagram
CATEGORIES:Webinar/Live
ATTACH;FMTTYPE=image/jpeg:https://intelivino.com.br/wp-content/uploads/2020/07/Live-ABSSP-07.07.2020.jpeg
ORGANIZER;CN="ABS-SP":MAILTO:contato@abs-sp.com.br
END:VEVENT
BEGIN:VEVENT
DTSTART;TZID=America/Sao_Paulo:20200707T200000
DTEND;TZID=America/Sao_Paulo:20200707T210000
DTSTAMP:20260420T093928
CREATED:20200707T125024Z
LAST-MODIFIED:20200707T125024Z
UID:31388-1594152000-1594155600@intelivino.com.br
SUMMARY:Enoturismo * Portus Cale
DESCRIPTION:Tema: Enoturismo \nConheça nosso convidado: Tito é empresário\, professor e especialista em vinhos. COO VSX Club & The Wine School / WSET – Level 3 Award in Wine & Spirits / ABS (SP) – Curso de Sommelier Profissional.
URL:https://intelivino.com.br/evento/enoturismo-portus-cale/
LOCATION:Live – Instagram
CATEGORIES:Webinar/Live
ATTACH;FMTTYPE=image/jpeg:https://intelivino.com.br/wp-content/uploads/2020/07/Live-Portus-Cale-07.07.2020.jpeg
END:VEVENT
BEGIN:VEVENT
DTSTART;TZID=America/Sao_Paulo:20200707T200000
DTEND;TZID=America/Sao_Paulo:20200707T210000
DTSTAMP:20260420T093928
CREATED:20200707T123920Z
LAST-MODIFIED:20200707T123920Z
UID:31387-1594152000-1594155600@intelivino.com.br
SUMMARY:Blens de vinhos tintos * Casa Valduga
DESCRIPTION:Hoje teremos uma aula sobre blens de vinhos tintos. Com Alexandre Chaves e Andrei Bellé. 🍷
URL:https://intelivino.com.br/evento/blens-de-vinhos-tintos-casa-valduga/
LOCATION:Live – Instagram
CATEGORIES:Webinar/Live
ATTACH;FMTTYPE=image/jpeg:https://intelivino.com.br/wp-content/uploads/2020/07/Live-Casa-Valduga-07.07.2020.jpeg
END:VEVENT
BEGIN:VEVENT
DTSTART;TZID=America/Sao_Paulo:20200707T200000
DTEND;TZID=America/Sao_Paulo:20200707T210000
DTSTAMP:20260420T093928
CREATED:20200622T123503Z
LAST-MODIFIED:20200622T123503Z
UID:31330-1594152000-1594155600@intelivino.com.br
SUMMARY:Mamma Jamma - Rótulos para restaurante * ABS-Rio
DESCRIPTION:Receberemos para uma live Marcello Poltronieri\, sócio da pizzaria Mamma Jamma. A rede lançou uma marca de vinhos\, a MJ\, e nossos seguidores terão a oportunidade de acompanhar de casa com dois rótulos – disponíveis a um valor exclusivo. A live terá ainda a presença de Joseph Morgan\, nosso presidente\, que vai guiar os participantes na degustação. O kit com duas garrafas (R$ 119) pode ser encomendado até o dia 6 de julho diretamente pelo telefone de cada filial da @mammapizzeria.⠀
URL:https://intelivino.com.br/evento/mamma-jamma-rotulos-para-restaurante-abs-rio/
LOCATION:Live – Instagram
CATEGORIES:Webinar/Live
ATTACH;FMTTYPE=image/jpeg:https://intelivino.com.br/wp-content/uploads/2020/06/live-mammajamma-22.06.2020.jpeg
ORGANIZER;CN="ABS-Rio":MAILTO:abs@abs-rio.com.br
END:VEVENT
BEGIN:VEVENT
DTSTART;TZID=America/Sao_Paulo:20200708T190000
DTEND;TZID=America/Sao_Paulo:20200708T200000
DTSTAMP:20260420T093928
CREATED:20200708T134912Z
LAST-MODIFIED:20200708T134912Z
UID:31390-1594234800-1594238400@intelivino.com.br
SUMMARY:A trajetória da premium importadora * ABS-SP
DESCRIPTION:Hoje\, às 19 horas\, no instagram da @abs_sp\, bate papo de Guilherme Velloso com o Orlando Rodrigues\, da Premium. Além da história da importadora mineira\, a primeira a apresentar vinhos neozelandeses aos consumidores brasileiros\, certamente irão falar também sobre como ficará o mercado de vinhos no pós-pandemia. Nos vemos às 19 horas. @gcpvinho @orlandoprodrigues
URL:https://intelivino.com.br/evento/a-trajetoria-da-premium-importadora-abs-sp/
LOCATION:Live – Instagram
CATEGORIES:Webinar/Live
ATTACH;FMTTYPE=image/jpeg:https://intelivino.com.br/wp-content/uploads/2020/07/Live-ABSSP-08.07.2020.jpeg
ORGANIZER;CN="ABS-SP":MAILTO:contato@abs-sp.com.br
END:VEVENT
BEGIN:VEVENT
DTSTART;TZID=America/Sao_Paulo:20200709T170000
DTEND;TZID=America/Sao_Paulo:20200709T180000
DTSTAMP:20260420T093928
CREATED:20200709T123456Z
LAST-MODIFIED:20200709T123456Z
UID:31397-1594314000-1594317600@intelivino.com.br
SUMMARY:Vinhos brasileiros de altitude * Pró-Vinho
DESCRIPTION:Você já ouviu falar nos Vinhos de Altitude? O Estado de Santa Catarina concentra muitos deles e este vai ser o assunto desta #LiveProvinho com o produtor Guilherme Grando\, da Villagio Grando\, que será entrevistado pelo jornalista Sergio Queiroz. Não perca! 🍷
URL:https://intelivino.com.br/evento/vinhos-brasileiros-de-altitude-pro-vinho/
LOCATION:Live – Instagram
CATEGORIES:Webinar/Live
ATTACH;FMTTYPE=image/jpeg:https://intelivino.com.br/wp-content/uploads/2020/07/Live-pro-vinho-09.07.2020.jpeg
ORGANIZER;CN="Pr%C3%B3-Vinho":MAILTO:contato@provinho.org.br
END:VEVENT
BEGIN:VEVENT
DTSTART;TZID=America/Sao_Paulo:20200709T190000
DTEND;TZID=America/Sao_Paulo:20200709T200000
DTSTAMP:20260420T093928
CREATED:20200709T125333Z
LAST-MODIFIED:20200709T125333Z
UID:31398-1594321200-1594324800@intelivino.com.br
SUMMARY:Como acertar na compra de vinhos * Portus Cale
DESCRIPTION:Tema: Como acertar na compra de vinhos para cada ocasião \nConheça nossa convidada: Daene é PhD e professora universitária em Odontologia\, mas seu hobby sempre foi viajar para conhecer os vinhos do mundo. Em suas viagens se tornou Certified Sommelier (CMS) e hoje possui o WSET nível 3\, sendo atualmente educadora WSET em vinhos pela Enocultura em Recife. Iniciou a página no instagram @omundoemtacas que mostra pra seus seguidores o mundo do vinho em taças.
URL:https://intelivino.com.br/evento/como-acertar-na-compra-de-vinhos-portus-cale/
LOCATION:Live – Instagram
CATEGORIES:Webinar/Live
ATTACH;FMTTYPE=image/jpeg:https://intelivino.com.br/wp-content/uploads/2020/07/Live-Portus-Cale-09.07.2020.jpeg
END:VEVENT
BEGIN:VEVENT
DTSTART;TZID=America/Sao_Paulo:20200709T190000
DTEND;TZID=America/Sao_Paulo:20200709T200000
DTSTAMP:20260420T093928
CREATED:20200709T120147Z
LAST-MODIFIED:20200709T120147Z
UID:31395-1594321200-1594324800@intelivino.com.br
SUMMARY:ABS-MG * ABS-SP
DESCRIPTION:Bom dia\, dando sequência em nossa programação de lives\, hoje teremos um bate papo com Renato Costa\, presidente da ABS-MG.\nNão percam! \n@absminas @rei60
URL:https://intelivino.com.br/evento/abs-mg-abs-sp/
LOCATION:Live – Instagram
CATEGORIES:Webinar/Live
ATTACH;FMTTYPE=image/jpeg:https://intelivino.com.br/wp-content/uploads/2020/07/Live-ABSSP-Sexta-09.07.2020.jpeg
ORGANIZER;CN="ABS-SP":MAILTO:contato@abs-sp.com.br
END:VEVENT
BEGIN:VEVENT
DTSTART;TZID=America/Sao_Paulo:20200709T200000
DTEND;TZID=America/Sao_Paulo:20200709T210000
DTSTAMP:20260420T093928
CREATED:20200622T124332Z
LAST-MODIFIED:20200622T124332Z
UID:31331-1594324800-1594328400@intelivino.com.br
SUMMARY:Cervejas – Escolas Alemãs * ABS-Rio
DESCRIPTION:Nosso professor cervejeiro Pedro Barcellos comanda uma aula sobre a escola alemã de cervejas. Pedro\, que atua no Módulo III do nosso curso de formação profissional\, vai falar sobre regionalidade\, a tradição da escola alemã\, e sobre a Reinheitsgebot – a famosa “lei da pureza” da cerveja.⠀
URL:https://intelivino.com.br/evento/cervejas-escolas-alemas-abs-rio/
LOCATION:Live – Instagram
CATEGORIES:Webinar/Live
ATTACH;FMTTYPE=image/jpeg:https://intelivino.com.br/wp-content/uploads/2020/06/Live-cerveja-alema-22.06.2020.jpeg
ORGANIZER;CN="ABS-Rio":MAILTO:abs@abs-rio.com.br
END:VEVENT
BEGIN:VEVENT
DTSTART;TZID=America/Sao_Paulo:20200710T160000
DTEND;TZID=America/Sao_Paulo:20200710T170000
DTSTAMP:20260420T093928
CREATED:20200710T125643Z
LAST-MODIFIED:20200710T125643Z
UID:31403-1594396800-1594400400@intelivino.com.br
SUMMARY:Vinhos sem maquiagem * ABS-RS
DESCRIPTION:@felipa_pato @vinimirago 🍷
URL:https://intelivino.com.br/evento/vinhos-sem-maquiagem-abs-rs/
LOCATION:Live – Instagram
CATEGORIES:Webinar/Live
ATTACH;FMTTYPE=image/jpeg:https://intelivino.com.br/wp-content/uploads/2020/07/Live-ABSRS-10.07.2020.jpeg
ORGANIZER;CN="ABS-RS":MAILTO:contato@absrs.com.br
END:VEVENT
BEGIN:VEVENT
DTSTART;TZID=America/Sao_Paulo:20200710T190000
DTEND;TZID=America/Sao_Paulo:20200710T200000
DTSTAMP:20260420T093928
CREATED:20200701T125846Z
LAST-MODIFIED:20200701T125846Z
UID:31370-1594407600-1594411200@intelivino.com.br
SUMMARY:Aspectos da vitoriosa jornada para o Seña * Seña
DESCRIPTION:Convidamos para participar de um evento live\, conduzido por Gustavo Andrade de Paulo e por Eduardo Chadwick. Na ocasião\, os anfitriões vão revelar aspectos da vitoriosa jornada para o Seña\, com o tempo e alcançar reconhecimento para o Chile se posicionar como origem de vinhos de classe mundial. \nData: Sexta-feira\, 10 de Julho de 2020 | 18:00 horas Chile| 19:00 horas Brasil
URL:https://intelivino.com.br/evento/aspectos-da-vitoriosa-jornada-para-o-sen%cc%83a-sen%cc%83a/
LOCATION:Live – Instagram
CATEGORIES:Webinar/Live
ATTACH;FMTTYPE=image/jpeg:https://intelivino.com.br/wp-content/uploads/2020/07/Live-Sena-08.07.2020.jpeg
END:VEVENT
END:VCALENDAR