BEGIN:VCALENDAR
VERSION:2.0
PRODID:-//Intelivino - ECPv5.14.1//NONSGML v1.0//EN
CALSCALE:GREGORIAN
METHOD:PUBLISH
X-WR-CALNAME:Intelivino
X-ORIGINAL-URL:https://intelivino.com.br
X-WR-CALDESC:Eventos para Intelivino
REFRESH-INTERVAL;VALUE=DURATION:PT1H
X-Robots-Tag:noindex
X-PUBLISHED-TTL:PT1H
BEGIN:VTIMEZONE
TZID:America/Sao_Paulo
BEGIN:STANDARD
TZOFFSETFROM:-0300
TZOFFSETTO:-0300
TZNAME:-03
DTSTART:20240101T000000
END:STANDARD
END:VTIMEZONE
BEGIN:VEVENT
DTSTART;TZID=America/Sao_Paulo:20240618T193000
DTEND;TZID=America/Sao_Paulo:20240618T213000
DTSTAMP:20260422T065938
CREATED:20240617T220458Z
LAST-MODIFIED:20240617T220458Z
UID:36859-1718739000-1718746200@intelivino.com.br
SUMMARY:Barolo x Brunello – uma luta de gigantes - Online * ABS-Rio
DESCRIPTION:A ABS Rio apresenta a degustação Barolo x Brunello – uma luta de gigantes\, que será conduzida pelo professor e produtor de vinhos Euclides Penedo Borges\, no formato online\, ao vivo\, no dia 18 de junho. \nAinda que a Itália tenha um número interminável de vinhos de todos os tipos\, ela conta com um imbatível tripé de qualidade entre os tintos\, formado por Barolo\, Amarone e Brunello di Montalcino\, respectivamente do Piemonte\, do Vêneto e da Toscana. \nRepetindo o sucesso de 2021\, o evento Barolo x Brunello – uma luta de gigantes terá dois vinhos de cada\, e o professor Euclides Penedo Borges apresentará aos participantes a excelência de dois monstros sagrados da vinicultura italiana e mundial. \nConfira os vinhos que serão degustados\, bem como seus valores de mercado: \n\nBarolo Paolo Scavino DOCG 2017 – R$ 720\,00\nBarolo DOCG Coppo 2016 – R$ 936\,89\nBrunello di Montalcino Caprili 2017 – R$ 998\,00\nBrunello di Montalcino Fattoria dei Barbi Riserva 2012 – R$ 1.342\,90\n\nAs inscrições\, limitadas a 23 participantes COM VINHOS e 25 participantes SEM VINHOS\, podem ser feitas no site da ABS-Rio. \nBarolo x Brunello – uma luta de gigantes – Online.\nCom Euclides Penedo Borges.\nOnde: Plataforma Zoom\, dia 18 de junho\, às 19h30. \nValores: \n\n\n\nCOM VINHOS: R$ 459\,00 para associados ABS-Rio ativos; e R$ 620\,00 para não associados.\nObs. Esses valores poderão ser parcelados em até três vezes\, sem juros\, no cartão.\n\n\n\n\n\n\nSEM VINHOS: R$ 80\,00 para associados ABS-Rio ativos; e R$ 96\,00 para não associados.
URL:https://intelivino.com.br/evento/barolo-x-brunello-uma-luta-de-gigantes-online-abs-rio/
LOCATION:Zoom
CATEGORIES:Degustação
ATTACH;FMTTYPE=image/jpeg:https://intelivino.com.br/wp-content/uploads/2024/06/Degustacao-ABS-Rio-18.06.24.jpeg
ORGANIZER;CN="ABS-Rio":MAILTO:abs@abs-rio.com.br
END:VEVENT
BEGIN:VEVENT
DTSTART;TZID=America/Sao_Paulo:20240708T193000
DTEND;TZID=America/Sao_Paulo:20240708T213000
DTSTAMP:20260422T065938
CREATED:20240703T012104Z
LAST-MODIFIED:20240703T012104Z
UID:36937-1720467000-1720474200@intelivino.com.br
SUMMARY:Introdução ao Mundo da Coquetelaria - 2024 * ABS-Rio
DESCRIPTION:A terceira edição do curso Introdução ao Mundo da Coquetelaria – 2024 está com inscrições abertas! As aulas terão início no próximo dia 08 de julho\, no formato online\, com transmissão ao vivo\, pelo Zoom. \nCurso voltado para profissionais de A&B que terão a possibilidade de interagir com professores de relevância no mercado e para os entusiastas e amantes da coquetelaria que desejam aprender mais sobre elaboração de coquetéis. \nO corpo docente é formado por profissionais atuantes nos mercados de Rio\, São Paulo e México\, como Ana Paula Ulrich\, Carol Gutierres\, Daniel Estévan\, Francesca Sanci\, José Ronaldo\, Marina Alice\, Pedro Barcellos e Rodolfo Bob. \nCom abordagem teórica e prática\, o curso permitirá ao aluno preparar os drinks em sua casa a partir de um kit que será entregue pela ABS Rio. O aluno receberá destilados e outras bebidas necessárias para a elaboração de mais de 20 coquetéis\, além de uma colher bailarina\, um dosador\, materiais complementares e uma apostila com os drinks das aulas\, entre outras receitas clássicas. \nAs inscrições\, limitadas a 29 participantes\, estão abertas no site da ABS-Rio! \n🍸Introdução ao Mundo da Coquetelaria – 2024;\nData: de 08 de julho a 09 de setembro de 2024\, às segundas-feiras;\nHora: 19h30 às 21h30;\nOnde: ZOOM (o link de acesso será enviado após a inscrição);\nPreço: R$1.300\,00; profissionais da área pagam R$1.100\,00. Parcelamento em até 5x sem juros no cartão de crédito;\nTaxa de inscrição: R$25\,00.\nMais informações: abs@abs-rio.com.br  / WhatsApp Flamengo: 98496-1082.
URL:https://intelivino.com.br/evento/introducao-ao-mundo-da-coquetelaria-2024-abs-rio/
LOCATION:Zoom
CATEGORIES:Curso Online
ATTACH;FMTTYPE=image/jpeg:https://intelivino.com.br/wp-content/uploads/2024/07/Curso-Online-ABS-Rio-08.07.24.jpeg
ORGANIZER;CN="ABS-Rio":MAILTO:abs@abs-rio.com.br
END:VEVENT
BEGIN:VEVENT
DTSTART;TZID=America/Sao_Paulo:20240715T193000
DTEND;TZID=America/Sao_Paulo:20240715T213000
DTSTAMP:20260422T065938
CREATED:20240703T044030Z
LAST-MODIFIED:20240703T044030Z
UID:37024-1721071800-1721079000@intelivino.com.br
SUMMARY:Formação de Sommeliers e Profissionais do Vinho - Ciclo I - 2024/2 - Online * ABS-Rio
DESCRIPTION:As inscrições para o curso Formação de Sommeliers e Profissionais do Vinho – Ciclo I – 2024/2 – ONLINE  já estão abertas\, e as aulas terão início em 15 de julho\, com transmissão ao vivo pela plataforma Zoom. \nBora investir na carreira! \nOnline:\nData: 15 de julho a 02 de outubro de 2024\, às 2as e 4as feiras.\nHora: 19h30 às 21h30. \nPreço: R$2.995\,00 + R$25\,00 (taxa de inscrição); Profissionais do vinho pagam R$2.396\,00 + R$25\,00. \nInscreva-se!
URL:https://intelivino.com.br/evento/formacao-de-sommeliers-e-profissionais-do-vinho-ciclo-i-2024-2-online-abs-rio/
LOCATION:Zoom
CATEGORIES:Curso Online
ATTACH;FMTTYPE=image/jpeg:https://intelivino.com.br/wp-content/uploads/2024/07/Curso-Online-ABS-Rio-15.07.24.jpeg
ORGANIZER;CN="ABS-Rio":MAILTO:abs@abs-rio.com.br
END:VEVENT
BEGIN:VEVENT
DTSTART;TZID=America/Sao_Paulo:20240716T193000
DTEND;TZID=America/Sao_Paulo:20240716T213000
DTSTAMP:20260422T065938
CREATED:20240703T135335Z
LAST-MODIFIED:20240703T135335Z
UID:37032-1721158200-1721165400@intelivino.com.br
SUMMARY:Formação de Sommeliers e Profissionais do Vinho - Ciclo II - 2024/2 - Online * ABS-Rio
DESCRIPTION:As inscrições para o curso Formação de Sommeliers e Profissionais do Vinho – Ciclo II – 2024/2 – ONLINE\, da ABS-Rio estão abertas. As aulas serão no período de 16 de julho a  22 de outubro\, com transmissão ao vivo pela plataforma Zoom. \nGaranta sua vaga e vamos aos estudos! \nOnline:\nData: 16 de julho a 22 de outubro de 2024\, às 3as e 5as feiras.\nHora: 19h30 às 21h30. \nPreço: R$3.950\,00; Profissionais do vinho pagam R$3.160\,00. \nInscreva-se!
URL:https://intelivino.com.br/evento/formacao-de-sommeliers-e-profissionais-do-vinho-ciclo-ii-2024-2-online-abs-rio/
LOCATION:Zoom
CATEGORIES:Curso Online
ATTACH;FMTTYPE=image/jpeg:https://intelivino.com.br/wp-content/uploads/2024/07/Curso-Online-ABS-Rio-16.07.24.jpeg
ORGANIZER;CN="ABS-Rio":MAILTO:abs@abs-rio.com.br
END:VEVENT
BEGIN:VEVENT
DTSTART;TZID=America/Sao_Paulo:20240910T193000
DTEND;TZID=America/Sao_Paulo:20240910T220000
DTSTAMP:20260422T065938
CREATED:20240902T213556Z
LAST-MODIFIED:20240902T213556Z
UID:37173-1725996600-1726005600@intelivino.com.br
SUMMARY:Grupo avançado de uvas viníferas * ABS-SP
DESCRIPTION:Essa turma está prevista para iniciar dia 10 de setembro de 2024 (terça-feira) às 19h30min e contará com aulas online (ao vivo).  \nÉ justamente com o objetivo de aprofundar esse conhecimento que lançamos este grupo avançado dedicado exclusivamente às principais uvas viníferas. Esta imersão abordará também temas como a origem e genealogia da vitis vinífera\, a valorização\, em tempos mais recentes\, dos chamados vinhos varietais e a arte do corte ou assemblage. \nO grupo contará com aulas quinzenais\, com degustação de\, no mínimo\, seis vinhos criteriosamente selecionados em cada encontro. Sob a orientação de nossos experientes especialistas da ABS-SP\, você desfrutará de um total de 21 aulas\, todas projetadas para aprofundar seu conhecimento e refinamento sensorial. \nPor ser um grupo de nível avançado\, será ministrado para um pequeno número de participantes. Junte-se a nós nesta emocionante jornada pelo mundo das uvas viníferas e descubra o verdadeiro significado por trás de cada taça. Garanta sua vaga hoje mesmo e eleve sua paixão pelo vinho a novos patamares. \nINVESTIMENTO E FORMAS DE PAGAMENTO: \nR$ 10.000\,00 \n– À vista\, com 5% de desconto via PIX ou Boleto (R$ 9.500\,00) \nou \n– Em até 12 vezes sem juros no cartão de crédito \nInscreva-se!
URL:https://intelivino.com.br/evento/grupo-avancado-de-uvas-viniferas-abs-sp-2/
LOCATION:Zoom
CATEGORIES:Curso Online
ATTACH;FMTTYPE=image/jpeg:https://intelivino.com.br/wp-content/uploads/2024/09/Curso-ABS-SP-10.09.24.jpeg
ORGANIZER;CN="ABS-SP":MAILTO:contato@abs-sp.com.br
END:VEVENT
BEGIN:VEVENT
DTSTART;TZID=America/Sao_Paulo:20250217T193000
DTEND;TZID=America/Sao_Paulo:20250217T213000
DTSTAMP:20260422T065938
CREATED:20250203T184428Z
LAST-MODIFIED:20250203T184428Z
UID:37412-1739820600-1739827800@intelivino.com.br
SUMMARY:Formação de Sommeliers e Profissionais do Vinho - Ciclo I - 2025/1 - Online * ABS-Rio
DESCRIPTION:As inscrições para o curso Formação de Sommeliers e Profissionais do Vinho – Ciclo I – 2025/1 – ONLINE já estão abertas\, e as aulas terão início em 17 de fevereiro\, com transmissão ao vivo pela plataforma Zoom. \nReconhecido pela Association de la Sommellerie Internationale (ASI)\, o curso de sommelier da ABS Rio confere grande valor a quem deseja se qualificar para o mercado de trabalho. \nO Ciclo I é introdutório\, com visão ampla dos tipos de vinhos e suas vinificações\, das castas\, de harmonização e de degustação. São 29 aulas\, totalizando uma carga horária de 58 horas\, incluindo os testes. \nAo longo do módulo serão degustados mais de 40 vinhos\, sob a orientação dos professores. \nOnline:\nData: 17 de fevereiro a 09 de junho de 2025\, às 2as e 4as feiras.\nHora: 19h30 às 21h30. \nPreço: \n\nR$4.125\,00 + R$25\,00 (taxa de inscrição);\nProfissionais do vinho pagam R$3.300\,00 + R$25\,00;\nParcelamento no cartão de crédito\, em até 6 vezes\, sem juros; ou 7 a 10 vezes com juros da administradora do cartão.\n\nInscreva-se!
URL:https://intelivino.com.br/evento/formacao-de-sommeliers-e-profissionais-do-vinho-ciclo-i-2025-1-online-abs-rio/
LOCATION:Zoom
CATEGORIES:Curso Online
ATTACH;FMTTYPE=image/jpeg:https://intelivino.com.br/wp-content/uploads/2025/02/Curso-Online-ABS-Rio-17.02.25.jpeg
ORGANIZER;CN="ABS-Rio":MAILTO:abs@abs-rio.com.br
END:VEVENT
BEGIN:VEVENT
DTSTART;TZID=America/Sao_Paulo:20250218T193000
DTEND;TZID=America/Sao_Paulo:20250218T213000
DTSTAMP:20260422T065938
CREATED:20250204T010753Z
LAST-MODIFIED:20250204T010753Z
UID:37427-1739907000-1739914200@intelivino.com.br
SUMMARY:Formação de Sommeliers e Profissionais do Vinho - Ciclo II - 2025/1 - Online * ABS-Rio
DESCRIPTION:As inscrições para o curso Formação de Sommeliers e Profissionais do Vinho – Ciclo II – 2025/1 – ONLINE já estão abertas\, e as aulas terão início em 18 de fevereiro\, com transmissão ao vivo pela plataforma Zoom. \nReconhecido pela Association de la Sommellerie Internationale (ASI)\, o curso de sommelier da ABS Rio confere grande valor para quem deseja se qualificar para o mercado de trabalho. \nQuem concluiu o Ciclo I do curso Formação de Sommeliers e Profissionais do Vinho já pode se inscrever no Ciclo II. Este módulo é realizado em 30 aulas (correspondentes a 60 horas)\, incluindo o teste\, e consiste no estudo sobre os países produtores de vinho. A cada aula\, países com suas características\, seus principais vinhos\, castas e tudo referente à sua produção. Grandes países produtores serão vistos em mais de uma aula\, como: França (cinco aulas)\, Itália\, Espanha e Portugal (duas aulas\, cada). \nEm todos os encontros os alunos terão degustação técnica de 1 ou 2 vinhos\, sob a orientação dos professores. \nOnline\, à noite:\nData: 18 de fevereiro a 24 de junho de 2025\, às 3as e 5as feiras.\nHora: 19h30 às 21h30. \nPreço: \n\nR$4.260\,00 + R$25\,00 (taxa de inscrição);\nProfissionais do vinho pagam R$3.408\,00 + R$25\,00\nParcelamento no cartão de crédito\, em até 6 vezes\, sem juros; ou 7 a 10 vezes com juros da administradora do cartão.\n\nInscreva-se!
URL:https://intelivino.com.br/evento/formacao-de-sommeliers-e-profissionais-do-vinho-ciclo-ii-2025-1-online-abs-rio/
LOCATION:Zoom
CATEGORIES:Curso Online
ATTACH;FMTTYPE=image/jpeg:https://intelivino.com.br/wp-content/uploads/2025/02/Curso-Online-ABS-Rio-18.02.25.jpeg
ORGANIZER;CN="ABS-Rio":MAILTO:abs@abs-rio.com.br
END:VEVENT
BEGIN:VEVENT
DTSTART;TZID=America/Sao_Paulo:20250618T190000
DTEND;TZID=America/Sao_Paulo:20250618T220000
DTSTAMP:20260422T065938
CREATED:20250506T224819Z
LAST-MODIFIED:20250506T224819Z
UID:38019-1750273200-1750284000@intelivino.com.br
SUMMARY:Curso Sommelier Profissional Online * ABS-RS
DESCRIPTION:🚨 Segunda turma do ano: Curso de Sommelier Profissional On-line 2025! 🚨 \nA ABS-RS abre as portas para uma nova jornada no mundo do vinho! 🍷✨ Se você busca conhecimento\, experiências imersivas. Curso reconhecido no mercado nacional e internacional. Essa é a sua oportunidade. \n🎓 Por que fazer esse curso?\n🍷 Degustação premium de mais de R$ 30 mil em vinhos\n🍇 Visitas exclusivas a vinícolas na Serra Gaúcha\n🥂 Rótulos das principais regiões vinícolas do mundo\n🍝 Experiências práticas de harmonização\n✨ Professores renomados com certificações internacionais \n📅 Início das aulas: 18 de junho de 2025.\n📍 Local: Serra Gaúcha. \nInvestimento: \nPúblico em geral – taxa de matrícula R$ 999\,00 + 12x de R$ 999\,00 ou à vista 5%OFF R$ 12.337\,65 (pix ou transferência). \nAssociados ABS-RS – taxa de matrícula R$ 919\,00 + 12x de R$ 919\,00 ou à vista 5%OFF R$ 11.349\,65 (pix ou transferência). \nGaranta seu lugar e viva o universo do vinho de forma única! \n Ficou interessado? Acesse o link e garanta sua vaga! 😉
URL:https://intelivino.com.br/evento/curso-sommelier-profissional-online-abs-rs-3/
LOCATION:Zoom
CATEGORIES:Curso Online
ATTACH;FMTTYPE=image/jpeg:https://intelivino.com.br/wp-content/uploads/2025/05/Curso-ABS-RS-18.06.25.jpeg
ORGANIZER;CN="ABS-RS":MAILTO:contato@absrs.com.br
END:VEVENT
BEGIN:VEVENT
DTSTART;TZID=America/Sao_Paulo:20250714T193000
DTEND;TZID=America/Sao_Paulo:20250724T213000
DTSTAMP:20260422T065938
CREATED:20250707T144219Z
LAST-MODIFIED:20250707T144219Z
UID:38189-1752521400-1753392600@intelivino.com.br
SUMMARY:Curso Básico Intensivo de Férias * ABS-Rio
DESCRIPTION:O Curso Básico Intensivo de Férias – ONLINE da ABS Rio é mais um formato do Curso Básico de Vinhos\, pelo qual já passaram mais de 5 mil alunos\, e é indicado para leigos\, apreciadores da bebida ou interessados em atuar neste segmento\, sem experiência prévia. \nNo formato online\, o curso conta com aulas ao vivo\, transmitidas pela plataforma Zoom. O Curso Básico Intensivo de Férias permite ao aluno\, que não tem a possibilidade de participar presencialmente\, se inscrever na modalidade online e assistir às aulas no conforto de sua casa\, de onde poderá acompanhar e participar de forma interativa das degustações orientadas pelos professores. Para isso\, a ABS Rio enviará um kit com os vinhos selecionados fracionados em garrafinhas de vidro para cada aula\, que acontecerão durante oito dias úteis consecutivos (de segunda a quinta-feira)\, de 14 a 24 de julho de 2025. \nHora: 19h30 às 21h30\nLocal: plataforma Zoom \nPreço: \n\nR$ 1.650\,00;\nR$ 1.320\,00 para profissionais do vinho.\nParcelamento em até 3 vezes no cartão de crédito.\n\nTaxa de inscrição: R$25\,00 \nInclui: 8 aulas; degustação de 14 vinhos; fichas de degustação; apresentações das aulas em formato PDF; aulas gravadas\, disponíveis em área restrita do site por 30 dias contados após a transmissão da última aula; certificado de participação. \nEntrega dos vinhos: Frete grátis para a cidade do Rio de Janeiro\, Niterói e municípios da Baixada Fluminense. Para demais localidades\, consulte sobre a viabilidade da entrega e o custo do frete na Secretaria. \nAs inscrições estão abertas no site da ABS-Rio!
URL:https://intelivino.com.br/evento/curso-basico-intensivo-de-ferias-abs-rio/
LOCATION:Zoom
CATEGORIES:Curso Online
ATTACH;FMTTYPE=image/jpeg:https://intelivino.com.br/wp-content/uploads/2025/07/Curso-Online-ABS-Rio-14-a-24.07.25.jpeg
ORGANIZER;CN="ABS-Rio":MAILTO:abs@abs-rio.com.br
END:VEVENT
BEGIN:VEVENT
DTSTART;TZID=America/Sao_Paulo:20250728T193000
DTEND;TZID=America/Sao_Paulo:20250728T213000
DTSTAMP:20260422T065938
CREATED:20250707T185808Z
LAST-MODIFIED:20250707T185808Z
UID:38225-1753731000-1753738200@intelivino.com.br
SUMMARY:Formação de Sommeliers e Profissionais do Vinho – Ciclo I – 2025/2 – Online * ABS-Rio
DESCRIPTION:As inscrições para o curso Formação de Sommeliers e Profissionais do Vinho – Ciclo I – 2025/2 – ONLINE estão abertas\, e as aulas acontecerão de 28 de julho a 03 de novembro\, com transmissão ao vivo pela plataforma Zoom. \nReconhecido pela Association de la Sommellerie Internationale (ASI)\, o curso de sommelier da ABS Rio confere grande valor a quem deseja se qualificar para o mercado de trabalho. \nO Ciclo I é introdutório\, com visão ampla dos tipos de vinhos e suas vinificações\, das castas\, de harmonização e de degustação. São 29 aulas\, totalizando uma carga horária de 58 horas\, incluindo os testes. \nAo longo do módulo serão degustados mais de 40 vinhos\, sob a orientação dos professores. \nOnline\, à noite:\nData: 28 de julho a 03 de novembro de 2025\, às 2as e 4as feiras.\nHora: 19h30 às 21h30. \nPreço: \n\nR$ 4.125\,00 + R$ 25\,00 (taxa de inscrição);\nProfissionais do vinho pagam R$ 3.300\,00 + R$ 25\,00\nParcelamento no cartão de crédito\, em até 6 vezes\, sem juros; ou 7 a 10 vezes com juros da administradora do cartão.\n\nInscreva-se!
URL:https://intelivino.com.br/evento/formacao-de-sommeliers-e-profissionais-do-vinho-ciclo-i-2025-2-online-abs-rio/
LOCATION:Zoom
CATEGORIES:Curso Online
ATTACH;FMTTYPE=image/jpeg:https://intelivino.com.br/wp-content/uploads/2025/07/Curso-Online-ABS-Rio-28.07.25.jpeg
ORGANIZER;CN="ABS-Rio":MAILTO:abs@abs-rio.com.br
END:VEVENT
BEGIN:VEVENT
DTSTART;TZID=America/Sao_Paulo:20250729T193000
DTEND;TZID=America/Sao_Paulo:20250729T213000
DTSTAMP:20260422T065938
CREATED:20250707T192205Z
LAST-MODIFIED:20250707T192205Z
UID:38233-1753817400-1753824600@intelivino.com.br
SUMMARY:Formação de Sommeliers e Profissionais do Vinho – Ciclo II – 2025/2 – Online * ABS-Rio
DESCRIPTION:As inscrições para o curso Formação de Sommeliers e Profissionais do Vinho – Ciclo II – 2025/2 – ONLINE com início em 29 de julho estão abertas. As aulas serão transmitidas ao vivo pela plataforma Zoom. \nReconhecido pela Association de la Sommellerie Internationale (ASI)\, o curso de sommelier da ABS Rio confere grande valor para quem deseja se qualificar para o mercado de trabalho. \nQuem concluiu o Ciclo I do curso Formação de Sommeliers e Profissionais do Vinho já pode se inscrever no Ciclo II. Este módulo é realizado em 30 aulas (correspondentes a 60 horas)\, incluindo o teste\, e consiste no estudo sobre os países produtores de vinho. A cada aula\, países com suas características\, seus principais vinhos\, castas e tudo referente à sua produção. Grandes países produtores serão vistos em mais de uma aula\, como: França (cinco aulas)\, Itália\, Espanha e Portugal (duas aulas\, cada). \nEm todos os encontros os alunos terão degustação técnica de 1 ou 2 vinhos\, sob a orientação dos professores. \nGaranta sua vaga e vamos aos estudos! \nOnline:\nData: 29 de julho a 06 de novembro de 2025\, às 3as e 5as feiras.\nHora: 19h30 às 21h30. \nPreço: \n\nR$ 4.260\,00 + R$ 25\,00 (taxa de inscrição);\nProfissionais do vinho pagam R$ 3.408\,00 + R$ 25\,00;\nParcelamento no cartão de crédito\, em até 6 vezes\, sem juros; ou 7 a 10 vezes com juros da administradora do cartão.\n\nInscreva-se!
URL:https://intelivino.com.br/evento/formacao-de-sommeliers-e-profissionais-do-vinho-ciclo-ii-2025-2-online-abs-rio/
LOCATION:Zoom
CATEGORIES:Curso Online
ATTACH;FMTTYPE=image/jpeg:https://intelivino.com.br/wp-content/uploads/2025/07/Curso-Online-ABS-Rio-29.07.25.jpeg
ORGANIZER;CN="ABS-Rio":MAILTO:abs@abs-rio.com.br
END:VEVENT
END:VCALENDAR