BEGIN:VCALENDAR
VERSION:2.0
PRODID:-//Intelivino - ECPv5.14.1//NONSGML v1.0//EN
CALSCALE:GREGORIAN
METHOD:PUBLISH
X-WR-CALNAME:Intelivino
X-ORIGINAL-URL:https://intelivino.com.br
X-WR-CALDESC:Eventos para Intelivino
REFRESH-INTERVAL;VALUE=DURATION:PT1H
X-Robots-Tag:noindex
X-PUBLISHED-TTL:PT1H
BEGIN:VTIMEZONE
TZID:America/Sao_Paulo
BEGIN:STANDARD
TZOFFSETFROM:-0300
TZOFFSETTO:-0300
TZNAME:-03
DTSTART:20200101T000000
END:STANDARD
END:VTIMEZONE
BEGIN:VEVENT
DTSTART;TZID=America/Sao_Paulo:20200714T190000
DTEND;TZID=America/Sao_Paulo:20200714T200000
DTSTAMP:20260419T203339
CREATED:20200714T120050Z
LAST-MODIFIED:20200714T120050Z
UID:31414-1594753200-1594756800@intelivino.com.br
SUMMARY:Carlos Cabral * ABS-SP
DESCRIPTION:Nosso convidado: Especialista em vinhos do porto\, consultor do grupo Pão de Açúcar. 🍷
URL:https://intelivino.com.br/evento/carlos-cabral-abs-sp/
LOCATION:Live – Instagram
CATEGORIES:Webinar/Live
ATTACH;FMTTYPE=image/jpeg:https://intelivino.com.br/wp-content/uploads/2020/07/Live-ABSSP-Terca-14.07.2020.jpeg
ORGANIZER;CN="ABS-SP":MAILTO:contato@abs-sp.com.br
END:VEVENT
BEGIN:VEVENT
DTSTART;TZID=America/Sao_Paulo:20200713T190000
DTEND;TZID=America/Sao_Paulo:20200713T200000
DTSTAMP:20260419T203339
CREATED:20200713T143130Z
LAST-MODIFIED:20200713T143130Z
UID:31411-1594666800-1594670400@intelivino.com.br
SUMMARY:Marcelo Serrano * ABS-SP
DESCRIPTION:Bom dia\, vamos dar início em mais uma semana com nossa programação de lives. Hoje às 19 horas teremos um ótimo bate papo de Mario Telles com Marcelo Serrano\, mixologista Brasileiro. Não perca. \n@marceloserrano1 @mariotellesjunior
URL:https://intelivino.com.br/evento/marcelo-serrano-abs-sp/
LOCATION:Live – Instagram
CATEGORIES:Webinar/Live
ATTACH;FMTTYPE=image/jpeg:https://intelivino.com.br/wp-content/uploads/2020/07/Live-ABSSP-13.07.2020.jpeg
ORGANIZER;CN="ABS-SP":MAILTO:contato@abs-sp.com.br
END:VEVENT
BEGIN:VEVENT
DTSTART;TZID=America/Sao_Paulo:20200712T190000
DTEND;TZID=America/Sao_Paulo:20200712T200000
DTSTAMP:20260419T203339
CREATED:20200710T124638Z
LAST-MODIFIED:20200710T124638Z
UID:31402-1594580400-1594584000@intelivino.com.br
SUMMARY:Giuliana Ferreira * ABS-SP
DESCRIPTION:Nossa convidada: Formada pela ABS-SP. Embaixadora da Catena Zapata e Vina Montes no Brasil.
URL:https://intelivino.com.br/evento/giuliana-ferreira-abs-sp/
LOCATION:Live – Instagram
CATEGORIES:Webinar/Live
ATTACH;FMTTYPE=image/jpeg:https://intelivino.com.br/wp-content/uploads/2020/07/Live-ABSSP-Domingo-10.07.2020.jpeg
ORGANIZER;CN="ABS-SP":MAILTO:contato@abs-sp.com.br
END:VEVENT
BEGIN:VEVENT
DTSTART;TZID=America/Sao_Paulo:20200711T190000
DTEND;TZID=America/Sao_Paulo:20200711T200000
DTSTAMP:20260419T203339
CREATED:20200709T115518Z
LAST-MODIFIED:20200709T115518Z
UID:31394-1594494000-1594497600@intelivino.com.br
SUMMARY:Desafio ao mestre * ABS-SP
DESCRIPTION:Faça seu desafio ao mestre\, deixe aqui nos comentários a sua dúvida sobre vinhos.\nMarquem os amigos! \n@gustavo_andrade_de_paulo @sartoridu
URL:https://intelivino.com.br/evento/desafio-ao-mestre-abs-sp/
LOCATION:Live – Instagram
CATEGORIES:Webinar/Live
ATTACH;FMTTYPE=image/jpeg:https://intelivino.com.br/wp-content/uploads/2020/07/Live-ABSSP-Sabado-09.07.2020.jpeg
ORGANIZER;CN="ABS-SP":MAILTO:contato@abs-sp.com.br
END:VEVENT
BEGIN:VEVENT
DTSTART;TZID=America/Sao_Paulo:20200709T190000
DTEND;TZID=America/Sao_Paulo:20200709T200000
DTSTAMP:20260419T203339
CREATED:20200709T120147Z
LAST-MODIFIED:20200709T120147Z
UID:31395-1594321200-1594324800@intelivino.com.br
SUMMARY:ABS-MG * ABS-SP
DESCRIPTION:Bom dia\, dando sequência em nossa programação de lives\, hoje teremos um bate papo com Renato Costa\, presidente da ABS-MG.\nNão percam! \n@absminas @rei60
URL:https://intelivino.com.br/evento/abs-mg-abs-sp/
LOCATION:Live – Instagram
CATEGORIES:Webinar/Live
ATTACH;FMTTYPE=image/jpeg:https://intelivino.com.br/wp-content/uploads/2020/07/Live-ABSSP-Sexta-09.07.2020.jpeg
ORGANIZER;CN="ABS-SP":MAILTO:contato@abs-sp.com.br
END:VEVENT
BEGIN:VEVENT
DTSTART;TZID=America/Sao_Paulo:20200708T190000
DTEND;TZID=America/Sao_Paulo:20200708T200000
DTSTAMP:20260419T203339
CREATED:20200708T134912Z
LAST-MODIFIED:20200708T134912Z
UID:31390-1594234800-1594238400@intelivino.com.br
SUMMARY:A trajetória da premium importadora * ABS-SP
DESCRIPTION:Hoje\, às 19 horas\, no instagram da @abs_sp\, bate papo de Guilherme Velloso com o Orlando Rodrigues\, da Premium. Além da história da importadora mineira\, a primeira a apresentar vinhos neozelandeses aos consumidores brasileiros\, certamente irão falar também sobre como ficará o mercado de vinhos no pós-pandemia. Nos vemos às 19 horas. @gcpvinho @orlandoprodrigues
URL:https://intelivino.com.br/evento/a-trajetoria-da-premium-importadora-abs-sp/
LOCATION:Live – Instagram
CATEGORIES:Webinar/Live
ATTACH;FMTTYPE=image/jpeg:https://intelivino.com.br/wp-content/uploads/2020/07/Live-ABSSP-08.07.2020.jpeg
ORGANIZER;CN="ABS-SP":MAILTO:contato@abs-sp.com.br
END:VEVENT
BEGIN:VEVENT
DTSTART;TZID=America/Sao_Paulo:20200707T190000
DTEND;TZID=America/Sao_Paulo:20200707T200000
DTSTAMP:20260419T203339
CREATED:20200707T121355Z
LAST-MODIFIED:20200707T121355Z
UID:31385-1594148400-1594152000@intelivino.com.br
SUMMARY:Vinho Laranja x Umani * ABS-SP
DESCRIPTION:Nossa live de hoje aborda um tema bem curioso\, se organiza para não perder. \nMarque os amigos! Às 19 horas\, @mariotellesjunior e @sartoridu irão falar sobre Vinho Laranja x Umani.
URL:https://intelivino.com.br/evento/vinho-laranja-x-umani-abs-sp/
LOCATION:Live – Instagram
CATEGORIES:Webinar/Live
ATTACH;FMTTYPE=image/jpeg:https://intelivino.com.br/wp-content/uploads/2020/07/Live-ABSSP-07.07.2020.jpeg
ORGANIZER;CN="ABS-SP":MAILTO:contato@abs-sp.com.br
END:VEVENT
BEGIN:VEVENT
DTSTART;TZID=America/Sao_Paulo:20200706T190000
DTEND;TZID=America/Sao_Paulo:20200706T200000
DTSTAMP:20260419T203339
CREATED:20200706T113907Z
LAST-MODIFIED:20200706T113907Z
UID:31382-1594062000-1594065600@intelivino.com.br
SUMMARY:Fábio La Pietra * ABS-SP
DESCRIPTION:Convidado: Fábio La Pietra \nNo final da live\, será preparado um Negroni clássico e quem quiser acompanhar\, tem que providenciar um Gim\, um Vermute e um amargo aperitivo da sua preferência. \n#academiadebartenders
URL:https://intelivino.com.br/evento/fabio-la-pietra-abs-sp/
LOCATION:Live – Instagram
CATEGORIES:Webinar/Live
ATTACH;FMTTYPE=image/jpeg:https://intelivino.com.br/wp-content/uploads/2020/07/Live-ABSSP-06.07.2020.jpeg
ORGANIZER;CN="ABS-SP":MAILTO:contato@abs-sp.com.br
END:VEVENT
BEGIN:VEVENT
DTSTART;TZID=America/Sao_Paulo:20200703T190000
DTEND;TZID=America/Sao_Paulo:20200703T200000
DTSTAMP:20260419T203339
CREATED:20200703T125313Z
LAST-MODIFIED:20200703T125313Z
UID:31379-1593802800-1593806400@intelivino.com.br
SUMMARY:Espumantes do mundo * ABS-SP
DESCRIPTION:Sextouuuuuu… E para comemorar\, hoje vamos ter Live sobre espumantes com Junior Medeiros e José Luiz Borges.\nVocê não pode perder!!! Nos vemos às 19 horas. \n@juniormedeiros77 @rei60
URL:https://intelivino.com.br/evento/espumantes-do-mundo-abs-sp/
LOCATION:Live – Instagram
CATEGORIES:Webinar/Live
ATTACH;FMTTYPE=image/jpeg:https://intelivino.com.br/wp-content/uploads/2020/07/Live-ABSSP-03.07.2020.jpeg
ORGANIZER;CN="ABS-SP":MAILTO:contato@abs-sp.com.br
END:VEVENT
BEGIN:VEVENT
DTSTART;TZID=America/Sao_Paulo:20200702T190000
DTEND;TZID=America/Sao_Paulo:20200702T200000
DTSTAMP:20260419T203339
CREATED:20200702T114905Z
LAST-MODIFIED:20200702T114905Z
UID:31374-1593716400-1593720000@intelivino.com.br
SUMMARY:Destilados brasileiros * ABS-SP
DESCRIPTION:Hoje temos mais um encontro às 19horas\, Marcello Borges fará uma descontraída conversa com Aline Bortoletto sobre destilados Brasileiros.\nNão percam. Marquem os amigos. \n@aline_bortoletto @maob55
URL:https://intelivino.com.br/evento/destilados-brasileiros-abs-sp/
LOCATION:Live – Instagram
CATEGORIES:Webinar/Live
ATTACH;FMTTYPE=image/jpeg:https://intelivino.com.br/wp-content/uploads/2020/07/Live-ABSSP-02.07.2020.jpeg
ORGANIZER;CN="ABS-SP":MAILTO:contato@abs-sp.com.br
END:VEVENT
BEGIN:VEVENT
DTSTART;TZID=America/Sao_Paulo:20200701T193000
DTEND;TZID=America/Sao_Paulo:20200701T203000
DTSTAMP:20260419T203339
CREATED:20200701T115917Z
LAST-MODIFIED:20200701T115917Z
UID:31364-1593631800-1593635400@intelivino.com.br
SUMMARY:Uma conversa com o Chef Érick Jacquin * ABS-SP
DESCRIPTION:Hoje às 19h30min teremos mais uma live espetacular\, um bate papo de José Luiz Borges com Érick Jacquin.\nNão percam!\nMarquem os amigos. \n@erickjacquin @rei60
URL:https://intelivino.com.br/evento/uma-conversa-com-o-chef-erick-jacquin-abs-sp/
LOCATION:Live – Instagram
CATEGORIES:Webinar/Live
ATTACH;FMTTYPE=image/jpeg:https://intelivino.com.br/wp-content/uploads/2020/07/Live-ABSSP-01.07.2020.jpeg
ORGANIZER;CN="ABS-SP":MAILTO:contato@abs-sp.com.br
END:VEVENT
BEGIN:VEVENT
DTSTART;TZID=America/Sao_Paulo:20200630T190000
DTEND;TZID=America/Sao_Paulo:20200630T200000
DTSTAMP:20260419T203339
CREATED:20200630T123038Z
LAST-MODIFIED:20200630T123038Z
UID:31356-1593543600-1593547200@intelivino.com.br
SUMMARY:Gramona - A evolução dos espumantes na Espanha * ABS-SP
DESCRIPTION:Live de hoje com Arthur Azevedo\, vice-presidente da ABS-SP e Linda Diaz\, Sommelière-chef da Gramona.\nVamos descobrir os segredos do melhor vinho espumante da Espanha\, integrante da prestigiosa associação de vinhos premium Corpinatt. \nHoje\, às 19 horas\, no Instagram da @abs_sp. Marquem os amigos!
URL:https://intelivino.com.br/evento/gramona-a-evolucao-dos-espumantes-na-espanha-abs-sp/
LOCATION:Live – Instagram
CATEGORIES:Webinar/Live
ATTACH;FMTTYPE=image/jpeg:https://intelivino.com.br/wp-content/uploads/2020/06/Live-ABSSP-30.06.2020.jpeg
ORGANIZER;CN="ABS-SP":MAILTO:contato@abs-sp.com.br
END:VEVENT
BEGIN:VEVENT
DTSTART;TZID=America/Sao_Paulo:20200629T190000
DTEND;TZID=America/Sao_Paulo:20200629T200000
DTSTAMP:20260419T203339
CREATED:20200626T124356Z
LAST-MODIFIED:20200626T124356Z
UID:31351-1593457200-1593460800@intelivino.com.br
SUMMARY:ABS-SOROCABA * ABS-SP
DESCRIPTION:Tema: ABS-SOROCABA 🍷 \n29/06 – 19h \nConvidada: Rosemeire F. Garcia – Presidente da ABS-Sorocaba. \n@abssorocaba \n 
URL:https://intelivino.com.br/evento/abs-sorocaba-abs-sp/
LOCATION:Live – Instagram
CATEGORIES:Webinar/Live
ATTACH;FMTTYPE=image/jpeg:https://intelivino.com.br/wp-content/uploads/2020/06/Live-ABSSP-Segunda-26.06.2020.jpeg
ORGANIZER;CN="ABS-SP":MAILTO:contato@abs-sp.com.br
END:VEVENT
BEGIN:VEVENT
DTSTART;TZID=America/Sao_Paulo:20200628T190000
DTEND;TZID=America/Sao_Paulo:20200628T200000
DTSTAMP:20260419T203339
CREATED:20200626T123503Z
LAST-MODIFIED:20200626T123503Z
UID:31350-1593370800-1593374400@intelivino.com.br
SUMMARY:Cecilia Aldaz * ABS-SP
DESCRIPTION:Cecilia Aldaz\, premiada Sommelier\, apresentadora do Um Brinde ao Vinho. 🍷 \n28/06 – 19h \n@cecialdaz \n@mariotellesjunior
URL:https://intelivino.com.br/evento/cecilia-aldaz-abs-sp/
LOCATION:Live – Instagram
CATEGORIES:Webinar/Live
ATTACH;FMTTYPE=image/jpeg:https://intelivino.com.br/wp-content/uploads/2020/06/Live-ABSSP-Domingo-26.06.2020.jpeg
ORGANIZER;CN="ABS-SP":MAILTO:contato@abs-sp.com.br
END:VEVENT
BEGIN:VEVENT
DTSTART;TZID=America/Sao_Paulo:20200627T180000
DTEND;TZID=America/Sao_Paulo:20200627T190000
DTSTAMP:20260419T203339
CREATED:20200626T122450Z
LAST-MODIFIED:20200626T122450Z
UID:31349-1593280800-1593284400@intelivino.com.br
SUMMARY:Viagem - África do Sul * ABS-SP
DESCRIPTION:Viagem – África do Sul 🍷✈️🌏 \n27/06 – 18h \n@alternatur \n@gilbertobraghetta
URL:https://intelivino.com.br/evento/viagem-africa-do-sul-abs-sp/
LOCATION:Live – Instagram
CATEGORIES:Webinar/Live
ATTACH;FMTTYPE=image/jpeg:https://intelivino.com.br/wp-content/uploads/2020/06/Live-ABSSP-Sabado-26.06.2020.jpeg
ORGANIZER;CN="ABS-SP":MAILTO:contato@abs-sp.com.br
END:VEVENT
BEGIN:VEVENT
DTSTART;TZID=America/Sao_Paulo:20200626T190000
DTEND;TZID=America/Sao_Paulo:20200626T200000
DTSTAMP:20260419T203339
CREATED:20200626T121401Z
LAST-MODIFIED:20200626T121401Z
UID:31348-1593198000-1593201600@intelivino.com.br
SUMMARY:ABS Rio * ABS-SP
DESCRIPTION:Live de hoje ABS-SP e ABS-RIO\, não perca esse bate papo às 19 horas.\nMarquem os amigos! \n@abs_rj @mariotellesjunior @josephmorgan
URL:https://intelivino.com.br/evento/abs-rio-abs-sp/
LOCATION:Live – Instagram
CATEGORIES:Webinar/Live
ATTACH;FMTTYPE=image/jpeg:https://intelivino.com.br/wp-content/uploads/2020/06/Live-ABSSP-26.06.2020.jpeg
ORGANIZER;CN="ABS-SP":MAILTO:contato@abs-sp.com.br
END:VEVENT
BEGIN:VEVENT
DTSTART;TZID=America/Sao_Paulo:20200625T190000
DTEND;TZID=America/Sao_Paulo:20200625T200000
DTSTAMP:20260419T203339
CREATED:20200625T120142Z
LAST-MODIFIED:20200625T120142Z
UID:31345-1593111600-1593115200@intelivino.com.br
SUMMARY:Ascensão dos vinhos de SP e MG * ABS-SP
DESCRIPTION:A Ascensão dos vinhos de SP e MG\, essa será nossa LIVE de hoje. Vamos falar sobre poda invertida\, vinhos de inverno\, terroir dessas regiões\, castas consagradas\, novas castas promissoras\, EPAMIG\, Vinícolas e seus vinhos que vem cada vez mais surpreendendo pela excelência e qualidade. LIVE entre ABS- SP e ABS- Campinas com seus respectivos Presidentes: Gustavo Andrade de Paulo e Eduardo Sartori. \nEsperamos todos vocês às 19:00 horas 🍷 \n@gustavo_andrade_de_paulo @sartoridu
URL:https://intelivino.com.br/evento/ascensao-dos-vinhos-de-sp-e-mg-abs-sp/
LOCATION:Live – Instagram
CATEGORIES:Webinar/Live
ATTACH;FMTTYPE=image/jpeg:https://intelivino.com.br/wp-content/uploads/2020/06/Live-ABSSP-25.06.2020.jpeg
ORGANIZER;CN="ABS-SP":MAILTO:contato@abs-sp.com.br
END:VEVENT
BEGIN:VEVENT
DTSTART;TZID=America/Sao_Paulo:20200624T190000
DTEND;TZID=America/Sao_Paulo:20200624T200000
DTSTAMP:20260419T203339
CREATED:20200624T123551Z
LAST-MODIFIED:20200624T123551Z
UID:31340-1593025200-1593028800@intelivino.com.br
SUMMARY:Jorge Lucki * ABS-SP
DESCRIPTION:Bom dia\, não percam a live de hoje com Mario Telles e Jorge Lucki. \n@mariotellesjunior @j.3bs
URL:https://intelivino.com.br/evento/jorge-lucki-abs-sp/
LOCATION:Live – Instagram
CATEGORIES:Webinar/Live
ATTACH;FMTTYPE=image/jpeg:https://intelivino.com.br/wp-content/uploads/2020/06/Live-ABSSP-24.06.2020.jpeg
ORGANIZER;CN="ABS-SP":MAILTO:contato@abs-sp.com.br
END:VEVENT
BEGIN:VEVENT
DTSTART;TZID=America/Sao_Paulo:20200623T190000
DTEND;TZID=America/Sao_Paulo:20200623T200000
DTSTAMP:20260419T203339
CREATED:20200623T113408Z
LAST-MODIFIED:20200623T113408Z
UID:31336-1592938800-1592942400@intelivino.com.br
SUMMARY:Narbona\, tradição e modernidade no Uruguai * ABS-SP
DESCRIPTION:Na live de hoje Guilherme Velloso irá entrevistar Fabiana Bracco\, um descontraído bate papo sobre o produtor Narbona e muitas histórias.\nMarquem os amigos! \n@inovinivinhos\n@fabianabracco @narbonawinelodge @gcpvinho @braccoboscawinery
URL:https://intelivino.com.br/evento/narbona-tradicao-e-modernidade-no-uruguai-abs-sp/
LOCATION:Live – Instagram
CATEGORIES:Webinar/Live
ATTACH;FMTTYPE=image/jpeg:https://intelivino.com.br/wp-content/uploads/2020/06/Live-ABSSP-22.06.2020.jpeg
ORGANIZER;CN="ABS-SP":MAILTO:contato@abs-sp.com.br
END:VEVENT
BEGIN:VEVENT
DTSTART;TZID=America/Sao_Paulo:20200621T190000
DTEND;TZID=America/Sao_Paulo:20200621T200000
DTSTAMP:20260419T203339
CREATED:20200618T132435Z
LAST-MODIFIED:20200618T132435Z
UID:31320-1592766000-1592769600@intelivino.com.br
SUMMARY:Convidada Daniela Bravin * ABS-SP
DESCRIPTION:🍷 \nDaniela Bravin e Mario Telles Junior
URL:https://intelivino.com.br/evento/convidada-daniela-bravin-abs-sp/
LOCATION:Live – Instagram
CATEGORIES:Webinar/Live
ATTACH;FMTTYPE=image/jpeg:https://intelivino.com.br/wp-content/uploads/2020/06/live-danibravin-abssp-18.06.2020.jpeg
ORGANIZER;CN="ABS-SP":MAILTO:contato@abs-sp.com.br
END:VEVENT
BEGIN:VEVENT
DTSTART;TZID=America/Sao_Paulo:20200620T180000
DTEND;TZID=America/Sao_Paulo:20200620T190000
DTSTAMP:20260419T203339
CREATED:20200618T131101Z
LAST-MODIFIED:20200618T131101Z
UID:31319-1592676000-1592679600@intelivino.com.br
SUMMARY:Viagem Serra da Mantiqueira * ABS-SP
DESCRIPTION:Tema: Viagem Serra da Mantiqueira \nRenata Jorge e Gilberto Braghetta
URL:https://intelivino.com.br/evento/viagem-serra-da-mantiqueira-abs-sp/
LOCATION:Live – Instagram
CATEGORIES:Webinar/Live
ATTACH;FMTTYPE=image/jpeg:https://intelivino.com.br/wp-content/uploads/2020/06/live-serra-abssp-18.06.2020.jpeg
ORGANIZER;CN="ABS-SP":MAILTO:contato@abs-sp.com.br
END:VEVENT
BEGIN:VEVENT
DTSTART;TZID=America/Sao_Paulo:20200619T190000
DTEND;TZID=America/Sao_Paulo:20200619T200000
DTSTAMP:20260419T203339
CREATED:20200618T130027Z
LAST-MODIFIED:20200618T130027Z
UID:31318-1592593200-1592596800@intelivino.com.br
SUMMARY:Chile - Vale do Maipo * ABS-SP
DESCRIPTION:Bom dia\, na live de hoje\, Gustavo e Júnior irão falar sobre Chile – Vale do Maipo. \nVocê não pode perder\, marque os amigos e vamos embarcar. \n@gustavo_andrade_de_paulo @juniormedeiros77
URL:https://intelivino.com.br/evento/chile-vale-do-maipo-abs-sp/
LOCATION:Live – Instagram
CATEGORIES:Webinar/Live
ATTACH;FMTTYPE=image/jpeg:https://intelivino.com.br/wp-content/uploads/2020/06/live-chile-abssp-18.06.2020.jpeg
ORGANIZER;CN="ABS-SP":MAILTO:contato@abs-sp.com.br
END:VEVENT
BEGIN:VEVENT
DTSTART;TZID=America/Sao_Paulo:20200618T190000
DTEND;TZID=America/Sao_Paulo:20200618T200000
DTSTAMP:20260419T203339
CREATED:20200618T124716Z
LAST-MODIFIED:20200618T124716Z
UID:31317-1592506800-1592510400@intelivino.com.br
SUMMARY:Entrevista com Alex Atala * ABS-SP
DESCRIPTION:Na live de hoje Mario Telles irá entrevistar Alex Atala\, o conceituado chef de cozinha. Muitas histórias e dicas.\nVocê não pode perder!!! @alexatala @mariotellesjunior*
URL:https://intelivino.com.br/evento/entrevista-com-alex-atala-abs-sp/
LOCATION:Live – Instagram
CATEGORIES:Webinar/Live
ATTACH;FMTTYPE=image/jpeg:https://intelivino.com.br/wp-content/uploads/2020/06/Live-Atala-ABS-SP-18.06.2020.jpeg
ORGANIZER;CN="ABS-SP":MAILTO:contato@abs-sp.com.br
END:VEVENT
BEGIN:VEVENT
DTSTART;TZID=America/Sao_Paulo:20200617T190000
DTEND;TZID=America/Sao_Paulo:20200617T200000
DTSTAMP:20260419T203339
CREATED:20200617T123102Z
LAST-MODIFIED:20200617T123102Z
UID:31313-1592420400-1592424000@intelivino.com.br
SUMMARY:Garzón\, a nova face do Uruguai * ABS-SP
DESCRIPTION:A live de hoje promete!!! Não percam!!!\nChristian Wylie e Arthur Azevedo irão abordar as grandes mudanças que aconteceram no Uruguai nos últimos anos\, as contribuições da Garzón para a vitivinicultura do país e as perspectivas futuras da Tannat e de outras varietais que começam a ganhar protagonismo na forma de vinhos muito interessantes. Marquem os amigos e abra o vinho! \n@artwine @bodegagarzon
URL:https://intelivino.com.br/evento/garzon-a-nova-face-do-uruguai-abs-sp/
LOCATION:Live – Instagram
CATEGORIES:Webinar/Live
ATTACH;FMTTYPE=image/jpeg:https://intelivino.com.br/wp-content/uploads/2020/06/live-garzon-17.06.2020.jpeg
ORGANIZER;CN="ABS-SP":MAILTO:contato@abs-sp.com.br
END:VEVENT
BEGIN:VEVENT
DTSTART;TZID=America/Sao_Paulo:20200613T180000
DTEND;TZID=America/Sao_Paulo:20200613T190000
DTSTAMP:20260419T203339
CREATED:20200613T122719Z
LAST-MODIFIED:20200613T122719Z
UID:31301-1592071200-1592074800@intelivino.com.br
SUMMARY:Viagem Serra Gaúcha * ABS-SP
DESCRIPTION:Bom dia\, na live de hoje às 18 horas vamos viajar para Serra Gaúcha com Glória Almeida e Gilberto Braghetta\, será uma deliciosa viagem.\nAbra seu vinho e embarque conosco! \n@gloriamda @alternatur @gilbertobraghetta
URL:https://intelivino.com.br/evento/viagem-serra-gaucha-abs-sp/
LOCATION:Live – Instagram
CATEGORIES:Webinar/Live
ATTACH;FMTTYPE=image/jpeg:https://intelivino.com.br/wp-content/uploads/2020/06/live-abssp-13.06.2020.jpeg
ORGANIZER;CN="ABS-SP":MAILTO:contato@abs-sp.com.br
END:VEVENT
BEGIN:VEVENT
DTSTART;TZID=America/Sao_Paulo:20200611T190000
DTEND;TZID=America/Sao_Paulo:20200611T200000
DTSTAMP:20260419T203339
CREATED:20200611T143358Z
LAST-MODIFIED:20200611T143358Z
UID:31295-1591902000-1591905600@intelivino.com.br
SUMMARY:Vinhos\, Azeites e Turismo * ABS-SP
DESCRIPTION:Na live de hoje teremos um ótimo bate papo com José Luiz Borges e Adega Alentejana – Manuel Chicau e Rosely Ferreira dos Santos\, sobre a história da Adega Alentejana\, vinda para o Brasil\, desafios enfrentados e superados. Vamos falar também sobre azeites e sobre a importação de vinho de outras regiões de Portugal. Mercado no momento atual e expectativas pós pandemia. Para finalizar vamos falar sobre turismo e gastronomia.\nNão percam essa oportunidade!!
URL:https://intelivino.com.br/evento/vinhos-azeites-e-turismo-abs-sp/
LOCATION:Live – Instagram
CATEGORIES:Webinar/Live
ATTACH;FMTTYPE=image/jpeg:https://intelivino.com.br/wp-content/uploads/2020/06/vinhos-e-azeite-abs-sp.jpeg
ORGANIZER;CN="ABS-SP":MAILTO:contato@abs-sp.com.br
END:VEVENT
BEGIN:VEVENT
DTSTART;TZID=America/Sao_Paulo:20200610T190000
DTEND;TZID=America/Sao_Paulo:20200610T200000
DTSTAMP:20260419T203339
CREATED:20200610T133840Z
LAST-MODIFIED:20200610T133840Z
UID:31293-1591815600-1591819200@intelivino.com.br
SUMMARY:Brasil e Portugal: Cada Vez Mais Unidos * ABS-SP
DESCRIPTION:Hoje\, teremos o prazer de conversar com um dos mais atuantes e respeitados editores e críticos de vinho de Portugal: Nuno Pires. Com ampla experiência na divulgação da cultura do vinho e realização de eventos\, Nuno nos contará um pouco sobre sua história e projetos em Portugal e no Brasil. Não percam! \n 
URL:https://intelivino.com.br/evento/brasil-e-portugal-cada-vez-mais-unidos-abs-sp/
LOCATION:Live – Instagram
CATEGORIES:Webinar/Live
ATTACH;FMTTYPE=image/jpeg:https://intelivino.com.br/wp-content/uploads/2020/06/live-brasil-e-portugal-abs-sp.jpeg
ORGANIZER;CN="ABS-SP":MAILTO:contato@abs-sp.com.br
END:VEVENT
BEGIN:VEVENT
DTSTART;TZID=America/Sao_Paulo:20200604T190000
DTEND;TZID=America/Sao_Paulo:20200604T200000
DTSTAMP:20260419T203339
CREATED:20200604T140640Z
LAST-MODIFIED:20200604T140640Z
UID:31278-1591297200-1591300800@intelivino.com.br
SUMMARY:Live no Instagram da ABS SP * Bate Papo Sobre a ABS
DESCRIPTION:Na live de hoje\, Mario Telles\, diretor da ABS-SP\, irá fazer um bate papo com José Roberto Dantas\, presidente da ABS-Pernambuco. Não percam! \n 
URL:https://intelivino.com.br/evento/live-no-instagram-da-abs-sp-bate-papo-sobre-a-abs/
LOCATION:Live – Instagram
CATEGORIES:Webinar/Live
ATTACH;FMTTYPE=image/jpeg:https://intelivino.com.br/wp-content/uploads/2020/06/Agenda-de-Lives-ABS-SP.jpeg
ORGANIZER;CN="ABS-SP":MAILTO:contato@abs-sp.com.br
END:VEVENT
BEGIN:VEVENT
DTSTART;TZID=America/Sao_Paulo:20200603T190000
DTEND;TZID=America/Sao_Paulo:20200603T200000
DTSTAMP:20260419T203339
CREATED:20200603T140733Z
LAST-MODIFIED:20200603T140733Z
UID:31276-1591210800-1591214400@intelivino.com.br
SUMMARY:Live no Instagram da ABS SP * Os Brasileiros Descobrindo Portugal
DESCRIPTION:Não percam a live de hoje com Gustavo Andrade de Paulo\, presidente da ABS-SP\, e Camilo Lima\, embaixador da Lima Smith no Brasil\, sobre os brasileiros descobrindo Portugal.
URL:https://intelivino.com.br/evento/live-no-instagram-da-abs-sp-os-brasileiros-descobrindo-portugal/
CATEGORIES:Webinar/Live
ATTACH;FMTTYPE=image/jpeg:https://intelivino.com.br/wp-content/uploads/2020/06/Agenda-de-Lives-ABS-SP.jpeg
ORGANIZER;CN="ABS-SP":MAILTO:contato@abs-sp.com.br
END:VEVENT
BEGIN:VEVENT
DTSTART;TZID=America/Sao_Paulo:20200602T190000
DTEND;TZID=America/Sao_Paulo:20200602T200000
DTSTAMP:20260419T203339
CREATED:20200602T142155Z
LAST-MODIFIED:20200602T142155Z
UID:31273-1591124400-1591128000@intelivino.com.br
SUMMARY:Live no Instagram da ABS SP * Harmonização Vinhos de Sobremesa
DESCRIPTION:Vamos conversar\, hoje\, sobre a harmonização de vinhos de sobremesa\, com Mario Telles\, fundador\, professor e diretor da ABS-SP\, e Eduardo Sartori\, presidente da ABS-Campinas.
URL:https://intelivino.com.br/evento/live-no-instagram-da-abs-sp-harmonizacao-vinho-de-sobremesa/
CATEGORIES:Webinar/Live
ATTACH;FMTTYPE=image/jpeg:https://intelivino.com.br/wp-content/uploads/2020/06/Agenda-de-Lives-ABS-SP.jpeg
ORGANIZER;CN="ABS-SP":MAILTO:contato@abs-sp.com.br
END:VEVENT
END:VCALENDAR