BEGIN:VCALENDAR
VERSION:2.0
PRODID:-//Intelivino - ECPv5.14.1//NONSGML v1.0//EN
CALSCALE:GREGORIAN
METHOD:PUBLISH
X-WR-CALNAME:Intelivino
X-ORIGINAL-URL:https://intelivino.com.br
X-WR-CALDESC:Eventos para Intelivino
REFRESH-INTERVAL;VALUE=DURATION:PT1H
X-Robots-Tag:noindex
X-PUBLISHED-TTL:PT1H
BEGIN:VTIMEZONE
TZID:America/Sao_Paulo
BEGIN:STANDARD
TZOFFSETFROM:-0300
TZOFFSETTO:-0300
TZNAME:-03
DTSTART:20220101T000000
END:STANDARD
END:VTIMEZONE
BEGIN:VEVENT
DTSTART;TZID=America/Sao_Paulo:20220609T140000
DTEND;TZID=America/Sao_Paulo:20220609T200000
DTSTAMP:20260419T111926
CREATED:20201007T163344Z
LAST-MODIFIED:20201007T163344Z
UID:11488-1654783200-1654804800@intelivino.com.br
SUMMARY:Festa Nacional Do Vinho * Fenavinho
DESCRIPTION:O Centro da Indústria\, Comércio e Serviços (CIC-BG)\, entidade promotora da ExpoBento e Fenavinho\, com base na reavaliação do cenário atual da pandemia no Brasil\, informa que o evento de 2021 será realizado em nova data\, de 09 a 19 de de junho de 2022\, no Parque de Eventos de Bento Gonçalves. \nA decisão atende às expectativas e recomendações em zelar o bem-estar das pessoas\, preservando a saúde de toda a cadeia de envolvidos nessas promoções. \nAs diretorias do CIC-BG\, da 30ª ExpoBento e comitê da 17ª Fenavinho agradecem a compreensão. \nSaiba mais!
URL:https://intelivino.com.br/evento/festa-nacional-do-vinho-fenavinho/
LOCATION:ExpoBento\, Alameda Fenavinho\, 481\, Bento Gonçalves\, Rio Grande do Sul\, 95700-000\, Brasil
CATEGORIES:Feira
ATTACH;FMTTYPE=image/jpeg:https://intelivino.com.br/wp-content/uploads/2020/10/Fenavinho-03.05.2021.jpeg
END:VEVENT
END:VCALENDAR