BEGIN:VCALENDAR
VERSION:2.0
PRODID:-//Intelivino - ECPv5.14.1//NONSGML v1.0//EN
CALSCALE:GREGORIAN
METHOD:PUBLISH
X-WR-CALNAME:Intelivino
X-ORIGINAL-URL:https://intelivino.com.br
X-WR-CALDESC:Eventos para Intelivino
REFRESH-INTERVAL;VALUE=DURATION:PT1H
X-Robots-Tag:noindex
X-PUBLISHED-TTL:PT1H
BEGIN:VTIMEZONE
TZID:America/Sao_Paulo
BEGIN:STANDARD
TZOFFSETFROM:-0300
TZOFFSETTO:-0300
TZNAME:-03
DTSTART:20230101T000000
END:STANDARD
END:VTIMEZONE
BEGIN:VEVENT
DTSTART;TZID=America/Sao_Paulo:20230228T200000
DTEND;TZID=America/Sao_Paulo:20230302T220000
DTSTAMP:20260419T100206
CREATED:20230219T180554Z
LAST-MODIFIED:20230219T180554Z
UID:33223-1677614400-1677794400@intelivino.com.br
SUMMARY:Curso Gratuito Vinho: Países e Regiões * Sensory Business
DESCRIPTION:Formação 100% gratuita e online. Participe da maior e melhor formação em vinhos do Brasil. Chegou o momento de você\, realmente\, entender sobre a bebida. \nFormação com apostilas\, materias extras e conteúdos complementares. \nVocê vai\, realmente\, aprender sobre vinhos! Conhecerá os principais países produtores e suas regiões de destaque. Serão explicadas as influências geográficas\, uvas\, características sensoriais dos produtos e muuito mais! \nDATAS: 28/02 até 02/03. \nPROFESSOR: Marcelo Vargas. \nHORÁRIO: 20h00. \nInscreva-se!
URL:https://intelivino.com.br/evento/curso-gratuito-vinho-paises-e-regioes-sensory-business/
LOCATION:Link a ser enviado
CATEGORIES:Curso Online,Workshop
ATTACH;FMTTYPE=image/jpeg:https://intelivino.com.br/wp-content/uploads/2023/02/Curso-Sensory-Business-28.02.23.jpeg
END:VEVENT
END:VCALENDAR